BEGIN:VCALENDAR
VERSION:2.0
PRODID:-//Welcome - ECPv6.15.20//NONSGML v1.0//EN
CALSCALE:GREGORIAN
METHOD:PUBLISH
X-ORIGINAL-URL:https://carlsonorchards.com
X-WR-CALDESC:Events for Welcome
REFRESH-INTERVAL;VALUE=DURATION:PT1H
X-Robots-Tag:noindex
X-PUBLISHED-TTL:PT1H
BEGIN:VTIMEZONE
TZID:UTC
BEGIN:STANDARD
TZOFFSETFROM:+0000
TZOFFSETTO:+0000
TZNAME:UTC
DTSTART:20210101T000000
END:STANDARD
END:VTIMEZONE
BEGIN:VEVENT
DTSTART;TZID=UTC:20230813T120000
DTEND;TZID=UTC:20230813T170000
DTSTAMP:20260424T061215
CREATED:20230725T141803Z
LAST-MODIFIED:20230725T141803Z
UID:4427-1691928000-1691946000@carlsonorchards.com
SUMMARY:North East Smoke House at The Peace Festival
DESCRIPTION:
URL:https://carlsonorchards.com/event/north-east-smoke-house-at-the-peace-festival/
LOCATION:MA
END:VEVENT
BEGIN:VEVENT
DTSTART;TZID=UTC:20230812T120000
DTEND;TZID=UTC:20230812T180000
DTSTAMP:20260424T061215
CREATED:20230725T141646Z
LAST-MODIFIED:20230725T141646Z
UID:4425-1691841600-1691863200@carlsonorchards.com
SUMMARY:North East Smoke House at Peace Festival
DESCRIPTION:
URL:https://carlsonorchards.com/event/north-east-smoke-house-at-peace-festival/
LOCATION:The Cider Barn at Carlson Orchards\, 115 Oak Hill Rd\, Harvard\, MA\, 01451\, United States
ORGANIZER;CN="Carlson Orchards":MAILTO:katiecarlson@carlsonorchards.com
END:VEVENT
BEGIN:VEVENT
DTSTART;TZID=UTC:20230806T110000
DTEND;TZID=UTC:20230806T170000
DTSTAMP:20260424T061215
CREATED:20230609T210947Z
LAST-MODIFIED:20230609T210947Z
UID:4302-1691319600-1691341200@carlsonorchards.com
SUMMARY:North East Smoke House food truck
DESCRIPTION:
URL:https://carlsonorchards.com/event/north-east-smoke-house-food-truck/
LOCATION:The Cider Barn at Carlson Orchards\, 115 Oak Hill Rd\, Harvard\, MA\, 01451\, United States
ORGANIZER;CN="Carlson Orchards":MAILTO:katiecarlson@carlsonorchards.com
END:VEVENT
BEGIN:VEVENT
DTSTART;TZID=UTC:20230805T110000
DTEND;TZID=UTC:20230805T190000
DTSTAMP:20260424T061215
CREATED:20230609T210645Z
LAST-MODIFIED:20230609T210645Z
UID:4298-1691233200-1691262000@carlsonorchards.com
SUMMARY:Cousins Maine Lobster Truck
DESCRIPTION:
URL:https://carlsonorchards.com/event/cousins-maine-lobster-truck-3/
LOCATION:The Cider Barn at Carlson Orchards\, 115 Oak Hill Rd\, Harvard\, MA\, 01451\, United States
ORGANIZER;CN="Carlson Orchards":MAILTO:katiecarlson@carlsonorchards.com
END:VEVENT
BEGIN:VEVENT
DTSTART;TZID=UTC:20230730T110000
DTEND;TZID=UTC:20230730T190000
DTSTAMP:20260424T061215
CREATED:20230609T205100Z
LAST-MODIFIED:20230609T205100Z
UID:4296-1690714800-1690743600@carlsonorchards.com
SUMMARY:North East Smoke House
DESCRIPTION:
URL:https://carlsonorchards.com/event/north-east-smoke-house-2/
LOCATION:The Cider Barn at Carlson Orchards\, 115 Oak Hill Rd\, Harvard\, MA\, 01451\, United States
ORGANIZER;CN="Carlson Orchards":MAILTO:katiecarlson@carlsonorchards.com
END:VEVENT
BEGIN:VEVENT
DTSTART;TZID=UTC:20230729T120000
DTEND;TZID=UTC:20230729T190000
DTSTAMP:20260424T061215
CREATED:20230609T204253Z
LAST-MODIFIED:20230609T204253Z
UID:4294-1690632000-1690657200@carlsonorchards.com
SUMMARY:Souped Up Food Truck returns to Carlsons
DESCRIPTION:
URL:https://carlsonorchards.com/event/souped-up-food-truck-returns-to-carlsons/
LOCATION:The Cider Barn at Carlson Orchards\, 115 Oak Hill Rd\, Harvard\, MA\, 01451\, United States
ORGANIZER;CN="Carlson Orchards":MAILTO:katiecarlson@carlsonorchards.com
END:VEVENT
BEGIN:VEVENT
DTSTART;TZID=UTC:20230728T160000
DTEND;TZID=UTC:20230728T193000
DTSTAMP:20260424T061215
CREATED:20230725T140738Z
LAST-MODIFIED:20230725T140738Z
UID:4417-1690560000-1690572600@carlsonorchards.com
SUMMARY:Cider Barn opening at 4pm Friday July 28
DESCRIPTION:
URL:https://carlsonorchards.com/event/cider-barn-opening-at-4pm-friday-july-28/
LOCATION:The Cider Barn at Carlson Orchards\, 115 Oak Hill Rd\, Harvard\, MA\, 01451\, United States
ORGANIZER;CN="Carlson Orchards":MAILTO:katiecarlson@carlsonorchards.com
END:VEVENT
BEGIN:VEVENT
DTSTART;TZID=UTC:20230722T110000
DTEND;TZID=UTC:20230722T190000
DTSTAMP:20260424T061215
CREATED:20230609T203259Z
LAST-MODIFIED:20230609T203259Z
UID:4284-1690023600-1690052400@carlsonorchards.com
SUMMARY:Cousins  Maine Lobster Truck
DESCRIPTION:
URL:https://carlsonorchards.com/event/cousins-maine-lobster-truck-2/
LOCATION:The Cider Barn at Carlson Orchards\, 115 Oak Hill Rd\, Harvard\, MA\, 01451\, United States
ORGANIZER;CN="Carlson Orchards":MAILTO:katiecarlson@carlsonorchards.com
END:VEVENT
BEGIN:VEVENT
DTSTART;TZID=UTC:20230715T120000
DTEND;TZID=UTC:20230715T190000
DTSTAMP:20260424T061215
CREATED:20230609T202808Z
LAST-MODIFIED:20230609T202808Z
UID:4278-1689422400-1689447600@carlsonorchards.com
SUMMARY:Trolley Dogs
DESCRIPTION:
URL:https://carlsonorchards.com/event/trolley-dogs-2/
LOCATION:The Cider Barn at Carlson Orchards\, 115 Oak Hill Rd\, Harvard\, MA\, 01451\, United States
ORGANIZER;CN="Carlson Orchards":MAILTO:katiecarlson@carlsonorchards.com
END:VEVENT
BEGIN:VEVENT
DTSTART;TZID=UTC:20230708T120000
DTEND;TZID=UTC:20230708T193000
DTSTAMP:20260424T061215
CREATED:20230609T202358Z
LAST-MODIFIED:20230630T182738Z
UID:4272-1688817600-1688844600@carlsonorchards.com
SUMMARY:North East Smoke House food truck
DESCRIPTION:
URL:https://carlsonorchards.com/event/north-eat-smoke-house-food-truck/
LOCATION:The Cider Barn at Carlson Orchards\, 115 Oak Hill Rd\, Harvard\, MA\, 01451\, United States
ORGANIZER;CN="Carlson Orchards":MAILTO:katiecarlson@carlsonorchards.com
END:VEVENT
BEGIN:VEVENT
DTSTART;TZID=UTC:20230702T120000
DTEND;TZID=UTC:20230702T173000
DTSTAMP:20260424T061215
CREATED:20230609T200354Z
LAST-MODIFIED:20230630T183100Z
UID:4267-1688299200-1688319000@carlsonorchards.com
SUMMARY:Trolley Dogs
DESCRIPTION:Trolley Dogs will be here weather permitting
URL:https://carlsonorchards.com/event/trolley-dogs/
LOCATION:The Cider Barn at Carlson Orchards\, 115 Oak Hill Rd\, Harvard\, MA\, 01451\, United States
ORGANIZER;CN="Carlson Orchards":MAILTO:katiecarlson@carlsonorchards.com
END:VEVENT
BEGIN:VEVENT
DTSTART;TZID=UTC:20230701T120000
DTEND;TZID=UTC:20230701T190000
DTSTAMP:20260424T061215
CREATED:20230609T195943Z
LAST-MODIFIED:20230609T195943Z
UID:4265-1688212800-1688238000@carlsonorchards.com
SUMMARY:Cousins Maine Lobster Truck
DESCRIPTION:
URL:https://carlsonorchards.com/event/cousins-maine-lobster-truck/
LOCATION:MA
ORGANIZER;CN="Carlson Orchards":MAILTO:katiecarlson@carlsonorchards.com
END:VEVENT
BEGIN:VEVENT
DTSTART;TZID=UTC:20230624T120000
DTEND;TZID=UTC:20230624T190000
DTSTAMP:20260424T061215
CREATED:20230609T194717Z
LAST-MODIFIED:20230609T194717Z
UID:4261-1687608000-1687633200@carlsonorchards.com
SUMMARY:Trolley Dogs food truck
DESCRIPTION:
URL:https://carlsonorchards.com/event/trolley-dogs-food-truck-18/
LOCATION:MA
ORGANIZER;CN="Carlson Orchards":MAILTO:katiecarlson@carlsonorchards.com
END:VEVENT
BEGIN:VEVENT
DTSTART;TZID=UTC:20230618T113000
DTEND;TZID=UTC:20230618T170000
DTSTAMP:20260424T061215
CREATED:20230609T182822Z
LAST-MODIFIED:20230609T193756Z
UID:4257-1687087800-1687107600@carlsonorchards.com
SUMMARY:North East Smoke House food truck at The Cider Barn
DESCRIPTION:
URL:https://carlsonorchards.com/event/north-east-smoke-house-food-truck-at-the-cider-barn/
LOCATION:MA
ORGANIZER;CN="Carlson Orchards":MAILTO:katiecarlson@carlsonorchards.com
END:VEVENT
BEGIN:VEVENT
DTSTART;TZID=UTC:20230617T110000
DTEND;TZID=UTC:20230617T190000
DTSTAMP:20260424T061215
CREATED:20230609T182630Z
LAST-MODIFIED:20230609T182630Z
UID:4255-1686999600-1687028400@carlsonorchards.com
SUMMARY:Cousin Maine Lobster Food Truck
DESCRIPTION:
URL:https://carlsonorchards.com/event/cousin-maine-lobster-food-truck/
LOCATION:The Cider Barn at Carlson Orchards\, 115 Oak Hill Rd\, Harvard\, MA\, 01451\, United States
ORGANIZER;CN="Carlson Orchards":MAILTO:katiecarlson@carlsonorchards.com
END:VEVENT
BEGIN:VEVENT
DTSTART;TZID=UTC:20230610T110000
DTEND;TZID=UTC:20230610T190000
DTSTAMP:20260424T061215
CREATED:20230609T181441Z
LAST-MODIFIED:20230609T181441Z
UID:4244-1686394800-1686423600@carlsonorchards.com
SUMMARY:North East Smoke House at The Cider Barn
DESCRIPTION:
URL:https://carlsonorchards.com/event/north-east-smoke-house-at-the-cider-barn/
LOCATION:MA
ORGANIZER;CN="Carlson Orchards":MAILTO:katiecarlson@carlsonorchards.com
END:VEVENT
BEGIN:VEVENT
DTSTART;TZID=UTC:20230506T130000
DTEND;TZID=UTC:20230506T170000
DTSTAMP:20260424T061215
CREATED:20230501T004328Z
LAST-MODIFIED:20230501T120946Z
UID:4092-1683378000-1683392400@carlsonorchards.com
SUMMARY:Celebration of Life for Franklyn Carlson
DESCRIPTION:Franklyn didn’t want to have any formal funeral but instead a celebration of his life. He wanted all of his family\, friends\, and peers to come together and share stories about him. We would like to welcome everyone to the Cider Barn at Carlson Orchards to join us in remembering Franklyn Carlson.
URL:https://carlsonorchards.com/event/celebration-of-life-for-franklyn-carlson-2/
LOCATION:The Cider Barn at Carlson Orchards\, 115 Oak Hill Rd\, Harvard\, MA\, 01451\, United States
END:VEVENT
BEGIN:VEVENT
DTSTART;TZID=UTC:20230506T130000
DTEND;TZID=UTC:20230506T170000
DTSTAMP:20260424T061215
CREATED:20230424T150718Z
LAST-MODIFIED:20230424T150718Z
UID:4078-1683378000-1683392400@carlsonorchards.com
SUMMARY:Celebration of Life
DESCRIPTION:The Cider Barn will remain closed on this day Saturday May 6th \nwhile we continue to gather friends and family \nin celebration of a life well lived by Franklyn Carlson \n 
URL:https://carlsonorchards.com/event/celebration-of-life/
LOCATION:MA
END:VEVENT
BEGIN:VEVENT
DTSTART;TZID=UTC:20230505T150000
DTEND;TZID=UTC:20230505T180000
DTSTAMP:20260424T061215
CREATED:20230501T004254Z
LAST-MODIFIED:20230501T121004Z
UID:4088-1683298800-1683309600@carlsonorchards.com
SUMMARY:Celebration of Life for Franklyn Carlson
DESCRIPTION:Franklyn didn’t want to have any formal funeral but instead a celebration of his life. He wanted all of his family\, friends\, and peers to come together and share stories about him. We would like to welcome everyone to the Cider Barn at Carlson Orchards to join us in remembering Franklyn Carlson.
URL:https://carlsonorchards.com/event/celebration-of-life-for-franklyn-carlson/
LOCATION:The Cider Barn at Carlson Orchards\, 115 Oak Hill Rd\, Harvard\, MA\, 01451\, United States
END:VEVENT
BEGIN:VEVENT
DTSTART;TZID=UTC:20230505T150000
DTEND;TZID=UTC:20230505T180000
DTSTAMP:20260424T061215
CREATED:20230424T145948Z
LAST-MODIFIED:20230424T145948Z
UID:4074-1683298800-1683309600@carlsonorchards.com
SUMMARY:A Celebration of Life
DESCRIPTION:Friday May 5th and Saturday May 6th \nThe Cider Barn at Carlson Orchards will be closed. \nWhile we gather friends\, and family to celebrate the extraordinary life of Franklyn Carlson.
URL:https://carlsonorchards.com/event/a-celebration-of-life/
LOCATION:MA
END:VEVENT
BEGIN:VEVENT
DTSTART;TZID=UTC:20230430T140000
DTEND;TZID=UTC:20230430T180000
DTSTAMP:20260424T061215
CREATED:20230424T124224Z
LAST-MODIFIED:20230424T152151Z
UID:4069-1682863200-1682877600@carlsonorchards.com
SUMMARY:Late opening of the Cider Barn April 30th
DESCRIPTION:The Cider Barn will have a delayed opening Sunday April 30th. \nThe Cider Barn will open to the public at 2:00 pm with wonderful music provided by 5th Gear Trio \n starting at 2:30pm until last call at 5:30pm.
URL:https://carlsonorchards.com/event/late-opening-of-the-cider-barn-april-30th/
LOCATION:MA
END:VEVENT
BEGIN:VEVENT
DTSTART;TZID=UTC:20230429T163000
DTEND;TZID=UTC:20230429T193000
DTSTAMP:20260424T061215
CREATED:20230424T144409Z
LAST-MODIFIED:20230424T152405Z
UID:4072-1682785800-1682796600@carlsonorchards.com
SUMMARY:Music by Max McFarland
DESCRIPTION:Solo Guitarist playing live 4:30 until last call 7:30 \nThe Cider Barn at Carlson Orchards
URL:https://carlsonorchards.com/event/music-by-max-mcfarland/
LOCATION:MA
END:VEVENT
BEGIN:VEVENT
DTSTART;TZID=UTC:20230211T170000
DTEND;TZID=UTC:20230211T190000
DTSTAMP:20260424T061215
CREATED:20230206T191018Z
LAST-MODIFIED:20230206T191018Z
UID:3821-1676134800-1676142000@carlsonorchards.com
SUMMARY:Katie's Kids Camp!!!
DESCRIPTION:Looking to have a nice night where you can enjoy a bite to eat and a pint of cider at the Cider Barn while you know your kids are having a great time?! We have just the night for you!! Katie’s Kamp is back for another great night! We are opening up this event to 20 kids where they can enjoy some pizza\, sweet cider\, do Valentine’s Day arts and crafts with Katie on the porch at the Cider Barn while you enjoy your dinner in peace! It is going to be a great night and we are hoping to have many more of these! The cost is $20 per child ages 1+ and a peaceful dinner at your favorite cider barn!!! Call Katie today at 978-456-3916 to reserve your kids spot today!
URL:https://carlsonorchards.com/event/katies-kids-camp/
LOCATION:The Cider Barn at Carlson Orchards\, 115 Oak Hill Rd\, Harvard\, MA\, 01451\, United States
END:VEVENT
BEGIN:VEVENT
DTSTART;TZID=UTC:20230210T170000
DTEND;TZID=UTC:20230210T190000
DTSTAMP:20260424T061215
CREATED:20230206T191133Z
LAST-MODIFIED:20230206T191233Z
UID:3879-1676048400-1676055600@carlsonorchards.com
SUMMARY:Katie's Kids Camp
DESCRIPTION:Looking to have a nice night where you can enjoy a bite to eat and a pint of cider at the Cider Barn while you know your kids are having a great time?! We have just the night for you!! Katie’s Kamp is back for another great night! We are opening up this event to 20 kids where they can enjoy some pizza\, sweet cider\, do Valentine’s Day arts and crafts with Katie on the porch at the Cider Barn while you enjoy your dinner in peace! It is going to be a great night and we are hoping to have many more of these! The cost is $20 per child ages 1+ and a peaceful dinner at your favorite cider barn!!! Call Katie today at 978-456-3916 to reserve your kids spot today!
URL:https://carlsonorchards.com/event/katies-kids-camp-2/
LOCATION:The Cider Barn at Carlson Orchards\, 115 Oak Hill Rd\, Harvard\, MA\, 01451\, United States
END:VEVENT
BEGIN:VEVENT
DTSTART;TZID=UTC:20230115T110000
DTEND;TZID=UTC:20230115T170000
DTSTAMP:20260424T061215
CREATED:20230111T005310Z
LAST-MODIFIED:20230111T005310Z
UID:3818-1673780400-1673802000@carlsonorchards.com
SUMMARY:Jamaican Jam
DESCRIPTION:This weekend is looking like it is going to be a great weekend with all things Jamaican!!! To welcome our newest hard cider…Jamaican Sunshine to the farm\, we have a menu planned to fit the theme!!! We will be serving Jerk Chicken Wings\, Carribean Slaw\, Jamaican Pulled Pork\, Spiced Sweet Potato Fries\, Rum Cake\, and a new Jamaican Sunshine drink called “Ya Man GO”!!! SO grab your family and friends and help us welcome a delicious and refreshing drink to our hard cider line up!
URL:https://carlsonorchards.com/event/jamaican-jam-3/
LOCATION:The Cider Barn at Carlson Orchards\, 115 Oak Hill Rd\, Harvard\, MA\, 01451\, United States
END:VEVENT
BEGIN:VEVENT
DTSTART;TZID=UTC:20230114T110000
DTEND;TZID=UTC:20230114T190000
DTSTAMP:20260424T061215
CREATED:20230111T005225Z
LAST-MODIFIED:20230111T005225Z
UID:3817-1673694000-1673722800@carlsonorchards.com
SUMMARY:Jamaican Jam
DESCRIPTION:This weekend is looking like it is going to be a great weekend with all things Jamaican!!! To welcome our newest hard cider…Jamaican Sunshine to the farm\, we have a menu planned to fit the theme!!! We will be serving Jerk Chicken Wings\, Carribean Slaw\, Jamaican Pulled Pork\, Spiced Sweet Potato Fries\, Rum Cake\, and a new Jamaican Sunshine drink called “Ya Man GO”!!! SO grab your family and friends and help us welcome a delicious and refreshing drink to our hard cider line up!
URL:https://carlsonorchards.com/event/jamaican-jam-2/
LOCATION:The Cider Barn at Carlson Orchards\, 115 Oak Hill Rd\, Harvard\, MA\, 01451\, United States
END:VEVENT
BEGIN:VEVENT
DTSTART;TZID=UTC:20230113T110000
DTEND;TZID=UTC:20230113T190000
DTSTAMP:20260424T061215
CREATED:20230111T005107Z
LAST-MODIFIED:20230111T005137Z
UID:3812-1673607600-1673636400@carlsonorchards.com
SUMMARY:Jamaican Jam
DESCRIPTION:This weekend is looking like it is going to be a great weekend with all things Jamaican!!! To welcome our newest hard cider…Jamaican Sunshine to the farm\, we have a menu planned to fit the theme!!! We will be serving Jerk Chicken Wings\, Carribean Slaw\, Jamaican Pulled Pork\, Spiced Sweet Potato Fries\, Rum Cake\, and a new Jamaican Sunshine drink called “Ya Man GO”!!! SO grab your family and friends and help us welcome a delicious and refreshing drink to our hard cider line up!
URL:https://carlsonorchards.com/event/jamaican-jam/
LOCATION:The Cider Barn at Carlson Orchards\, 115 Oak Hill Rd\, Harvard\, MA\, 01451\, United States
END:VEVENT
BEGIN:VEVENT
DTSTART;TZID=UTC:20221211T110000
DTEND;TZID=UTC:20221211T140000
DTSTAMP:20260424T061215
CREATED:20221206T182758Z
LAST-MODIFIED:20221206T182758Z
UID:3751-1670756400-1670767200@carlsonorchards.com
SUMMARY:Santa is Coming to Carlson's (round 2)!!
DESCRIPTION:Yup you read that right…Santa and his elf are coming to Carlson’s! There will be hot cocoa for the kids\, great holiday music\, and more! Come stop by and say hi to Santa\, tell him what you would like for Christmas and help us spread Christmas cheer! We also have some great Christmas wreaths and hanging baskets available as well!
URL:https://carlsonorchards.com/event/santa-is-coming-to-carlsons-round-2/
LOCATION:MA
END:VEVENT
BEGIN:VEVENT
DTSTART;TZID=UTC:20221210T110000
DTEND;TZID=UTC:20221210T140000
DTSTAMP:20260424T061215
CREATED:20221206T182637Z
LAST-MODIFIED:20221206T182637Z
UID:3747-1670670000-1670680800@carlsonorchards.com
SUMMARY:Santa is Coming to Carlson's!
DESCRIPTION:Yup you read that right…Santa and his elf are coming to Carlson’s! There will be hot cocoa for the kids\, great holiday music\, and more! Come stop by and say hi to Santa\, tell him what you would like for Christmas and help us spread Christmas cheer! We also have some great Christmas wreaths and hanging baskets available as well!
URL:https://carlsonorchards.com/event/santa-is-coming-to-carlsons/
LOCATION:MA
END:VEVENT
BEGIN:VEVENT
DTSTART;TZID=UTC:20220918T120000
DTEND;TZID=UTC:20220918T170000
DTSTAMP:20260424T061215
CREATED:20220912T180023Z
LAST-MODIFIED:20220912T180023Z
UID:3598-1663502400-1663520400@carlsonorchards.com
SUMMARY:Kith and Kin back at Carlson's!
DESCRIPTION:Don’t let a football game stop you from coming out for the day and enjoying the orchard\, good food and great company at Carlson’s! Set your TV to record the game\, gather your friends and family and come pick some apples!! After you finish picking be sure to stop by the Kith and Kin food truck for a burger\, sandwich\, and/or fries and pair it with a glass of your favorite hard cider at the Cider Barn! Don’t forget on your way out to stop by the Farm Stand and get some cider to take home with you! We look forward to seeing you this weekend!
URL:https://carlsonorchards.com/event/kith-and-kin-back-at-carlsons/
LOCATION:MA
END:VEVENT
END:VCALENDAR