BEGIN:VCALENDAR
VERSION:2.0
PRODID:-//Welcome - ECPv6.15.20//NONSGML v1.0//EN
CALSCALE:GREGORIAN
METHOD:PUBLISH
X-ORIGINAL-URL:https://carlsonorchards.com
X-WR-CALDESC:Events for Welcome
REFRESH-INTERVAL;VALUE=DURATION:PT1H
X-Robots-Tag:noindex
X-PUBLISHED-TTL:PT1H
BEGIN:VTIMEZONE
TZID:UTC
BEGIN:STANDARD
TZOFFSETFROM:+0000
TZOFFSETTO:+0000
TZNAME:UTC
DTSTART:20220101T000000
END:STANDARD
END:VTIMEZONE
BEGIN:VEVENT
DTSTART;TZID=UTC:20240224T163000
DTEND;TZID=UTC:20240224T193000
DTSTAMP:20260424T011614
CREATED:20240108T145006Z
LAST-MODIFIED:20240108T145006Z
UID:4909-1708792200-1708803000@carlsonorchards.com
SUMMARY:Jack and Brian
DESCRIPTION:Musical  Duo softer rock
URL:https://carlsonorchards.com/event/jack-and-brian/
LOCATION:The Cider Barn at Carlson Orchards\, 115 Oak Hill Rd\, Harvard\, MA\, 01451\, United States
ORGANIZER;CN="Carlson Orchards":MAILTO:katiecarlson@carlsonorchards.com
END:VEVENT
BEGIN:VEVENT
DTSTART;TZID=UTC:20240210T163000
DTEND;TZID=UTC:20240210T193000
DTSTAMP:20260424T011614
CREATED:20240108T144733Z
LAST-MODIFIED:20240108T144733Z
UID:4907-1707582600-1707593400@carlsonorchards.com
SUMMARY:Far From Eden
DESCRIPTION:Far from Eden Duo performing a mix of songs and music of our times.
URL:https://carlsonorchards.com/event/far-from-eden/
LOCATION:The Cider Barn at Carlson Orchards\, 115 Oak Hill Rd\, Harvard\, MA\, 01451\, United States
ORGANIZER;CN="Carlson Orchards":MAILTO:katiecarlson@carlsonorchards.com
END:VEVENT
BEGIN:VEVENT
DTSTART;TZID=UTC:20240203T163000
DTEND;TZID=UTC:20240203T193000
DTSTAMP:20260424T011614
CREATED:20240108T144528Z
LAST-MODIFIED:20240110T180518Z
UID:4905-1706977800-1706988600@carlsonorchards.com
SUMMARY:Joy Reo Trio
DESCRIPTION:Joy Reo Jazz at the Cider Barn.
URL:https://carlsonorchards.com/event/jay-reo-trio/
LOCATION:The Cider Barn at Carlson Orchards\, 115 Oak Hill Rd\, Harvard\, MA\, 01451\, United States
ORGANIZER;CN="Carlson Orchards":MAILTO:katiecarlson@carlsonorchards.com
END:VEVENT
BEGIN:VEVENT
DTSTART;TZID=UTC:20240127T163000
DTEND;TZID=UTC:20240127T193000
DTSTAMP:20260424T011614
CREATED:20240108T142634Z
LAST-MODIFIED:20240124T140644Z
UID:4898-1706373000-1706383800@carlsonorchards.com
SUMMARY:Mark Femino
DESCRIPTION:
URL:https://carlsonorchards.com/event/mark-femino/
LOCATION:The Cider Barn at Carlson Orchards\, 115 Oak Hill Rd\, Harvard\, MA\, 01451\, United States
ORGANIZER;CN="Carlson Orchards":MAILTO:katiecarlson@carlsonorchards.com
END:VEVENT
BEGIN:VEVENT
DTSTART;TZID=UTC:20240126T173000
DTEND;TZID=UTC:20240126T193000
DTSTAMP:20260424T011614
CREATED:20240108T144103Z
LAST-MODIFIED:20240108T144103Z
UID:4903-1706290200-1706297400@carlsonorchards.com
SUMMARY:Magic and Moon Light
DESCRIPTION:Join us for  a very special evening of table to table magic by Evan Northrup  from 6pm – 7pm and an evening of moon light strolling \, fire pits and s’mores in the orchard.
URL:https://carlsonorchards.com/event/magic-and-moon-light/
LOCATION:The Cider Barn at Carlson Orchards\, 115 Oak Hill Rd\, Harvard\, MA\, 01451\, United States
ORGANIZER;CN="Carlson Orchards":MAILTO:katiecarlson@carlsonorchards.com
END:VEVENT
BEGIN:VEVENT
DTSTART;TZID=UTC:20240114T120000
DTEND;TZID=UTC:20240114T170000
DTSTAMP:20260424T011614
CREATED:20240108T143609Z
LAST-MODIFIED:20240108T143609Z
UID:4901-1705233600-1705251600@carlsonorchards.com
SUMMARY:Cousins Maine Lobster Truck
DESCRIPTION:
URL:https://carlsonorchards.com/event/cousins-maine-lobster-truck-4/
LOCATION:The Cider Barn at Carlson Orchards\, 115 Oak Hill Rd\, Harvard\, MA\, 01451\, United States
ORGANIZER;CN="Carlson Orchards":MAILTO:katiecarlson@carlsonorchards.com
END:VEVENT
BEGIN:VEVENT
DTSTART;TZID=UTC:20240113T163000
DTEND;TZID=UTC:20240113T193000
DTSTAMP:20260424T011614
CREATED:20240108T142434Z
LAST-MODIFIED:20240108T143344Z
UID:4896-1705163400-1705174200@carlsonorchards.com
SUMMARY:Traditional Brew  accoustic players
DESCRIPTION:
URL:https://carlsonorchards.com/event/traditional-brew-accoustic-players/
LOCATION:The Cider Barn at Carlson Orchards\, 115 Oak Hill Rd\, Harvard\, MA\, 01451\, United States
ORGANIZER;CN="Carlson Orchards":MAILTO:katiecarlson@carlsonorchards.com
END:VEVENT
BEGIN:VEVENT
DTSTART;TZID=UTC:20240113T160000
DTEND;TZID=UTC:20240113T190000
DTSTAMP:20260424T011614
CREATED:20240108T142258Z
LAST-MODIFIED:20240108T142258Z
UID:4894-1705161600-1705172400@carlsonorchards.com
SUMMARY:Saturday Night Live Music at The Cider Barn
DESCRIPTION:
URL:https://carlsonorchards.com/event/saturday-night-live-music-at-the-cider-barn/
LOCATION:The Cider Barn at Carlson Orchards\, 115 Oak Hill Rd\, Harvard\, MA\, 01451\, United States
ORGANIZER;CN="Carlson Orchards":MAILTO:katiecarlson@carlsonorchards.com
END:VEVENT
BEGIN:VEVENT
DTSTART;VALUE=DATE:20231130
DTEND;VALUE=DATE:20231201
DTSTAMP:20260424T011614
CREATED:20231019T194455Z
LAST-MODIFIED:20231019T194455Z
UID:4765-1701302400-1701388799@carlsonorchards.com
SUMMARY:Closed To The Public
DESCRIPTION:
URL:https://carlsonorchards.com/event/closed-to-the-public-3/
LOCATION:The Cider Barn at Carlson Orchards\, 115 Oak Hill Rd\, Harvard\, MA\, 01451\, United States
END:VEVENT
BEGIN:VEVENT
DTSTART;TZID=UTC:20231118T160000
DTEND;TZID=UTC:20231118T190000
DTSTAMP:20260424T011614
CREATED:20231019T193046Z
LAST-MODIFIED:20231019T193046Z
UID:4757-1700323200-1700334000@carlsonorchards.com
SUMMARY:Musical Guests in The Cider Barn - Groton Irish Sessions
DESCRIPTION:
URL:https://carlsonorchards.com/event/musical-guests-in-the-cider-barn-groton-irish-sessions/
LOCATION:The Cider Barn at Carlson Orchards\, 115 Oak Hill Rd\, Harvard\, MA\, 01451\, United States
ORGANIZER;CN="Carlson Orchards":MAILTO:katiecarlson@carlsonorchards.com
END:VEVENT
BEGIN:VEVENT
DTSTART;VALUE=DATE:20231116
DTEND;VALUE=DATE:20231117
DTSTAMP:20260424T011614
CREATED:20231019T194358Z
LAST-MODIFIED:20231019T194358Z
UID:4763-1700092800-1700179199@carlsonorchards.com
SUMMARY:Closed To The Public
DESCRIPTION:
URL:https://carlsonorchards.com/event/closed-to-the-public-2/
LOCATION:The Cider Barn at Carlson Orchards\, 115 Oak Hill Rd\, Harvard\, MA\, 01451\, United States
END:VEVENT
BEGIN:VEVENT
DTSTART;VALUE=DATE:20231109
DTEND;VALUE=DATE:20231110
DTSTAMP:20260424T011614
CREATED:20231019T194107Z
LAST-MODIFIED:20231019T194107Z
UID:4761-1699488000-1699574399@carlsonorchards.com
SUMMARY:Closed to the Public
DESCRIPTION:
URL:https://carlsonorchards.com/event/closed-to-the-public/
LOCATION:MA
END:VEVENT
BEGIN:VEVENT
DTSTART;VALUE=DATE:20231102
DTEND;VALUE=DATE:20231103
DTSTAMP:20260424T011614
CREATED:20231019T164954Z
LAST-MODIFIED:20231019T170805Z
UID:4754-1698883200-1698969599@carlsonorchards.com
SUMMARY:Closed To The Public  November 2nd
DESCRIPTION:
URL:https://carlsonorchards.com/event/closed-to-the-public-november-2nd/
LOCATION:MA
END:VEVENT
BEGIN:VEVENT
DTSTART;TZID=UTC:20231029T120000
DTEND;TZID=UTC:20231029T170000
DTSTAMP:20260424T011614
CREATED:20231019T164834Z
LAST-MODIFIED:20231019T164834Z
UID:4751-1698580800-1698598800@carlsonorchards.com
SUMMARY:Last Out Door Concert of the Fall - Back To The Garden
DESCRIPTION:
URL:https://carlsonorchards.com/event/last-out-door-concert-of-the-fall-back-to-the-garden/
LOCATION:The Cider Barn at Carlson Orchards\, 115 Oak Hill Rd\, Harvard\, MA\, 01451\, United States
ORGANIZER;CN="Carlson Orchards":MAILTO:katiecarlson@carlsonorchards.com
END:VEVENT
BEGIN:VEVENT
DTSTART;TZID=UTC:20231029T120000
DTEND;TZID=UTC:20231029T170000
DTSTAMP:20260424T011614
CREATED:20231019T164442Z
LAST-MODIFIED:20231019T164442Z
UID:4749-1698580800-1698598800@carlsonorchards.com
SUMMARY:Guest Food Truck- Cousins Maine Lobster Truck
DESCRIPTION:
URL:https://carlsonorchards.com/event/guest-food-truck-cousins-maine-lobster-truck/
LOCATION:The Cider Barn at Carlson Orchards\, 115 Oak Hill Rd\, Harvard\, MA\, 01451\, United States
ORGANIZER;CN="Carlson Orchards":MAILTO:katiecarlson@carlsonorchards.com
END:VEVENT
BEGIN:VEVENT
DTSTART;TZID=UTC:20231028T140000
DTEND;TZID=UTC:20231028T160000
DTSTAMP:20260424T011614
CREATED:20231019T164043Z
LAST-MODIFIED:20231019T164043Z
UID:4745-1698501600-1698508800@carlsonorchards.com
SUMMARY:Launch and Lunch Kite Day with Glenn
DESCRIPTION:
URL:https://carlsonorchards.com/event/launch-and-lunch-kite-day-with-glenn/
LOCATION:The Cider Barn at Carlson Orchards\, 115 Oak Hill Rd\, Harvard\, MA\, 01451\, United States
ORGANIZER;CN="Carlson Orchards":MAILTO:katiecarlson@carlsonorchards.com
END:VEVENT
BEGIN:VEVENT
DTSTART;TZID=UTC:20231028T120000
DTEND;TZID=UTC:20231028T180000
DTSTAMP:20260424T011614
CREATED:20231019T164215Z
LAST-MODIFIED:20231019T164215Z
UID:4747-1698494400-1698516000@carlsonorchards.com
SUMMARY:Guest Food Truck - Souped Up Food Truck
DESCRIPTION:
URL:https://carlsonorchards.com/event/guest-food-truck-souped-up-food-truck-3/
LOCATION:The Cider Barn at Carlson Orchards\, 115 Oak Hill Rd\, Harvard\, MA\, 01451\, United States
ORGANIZER;CN="Carlson Orchards":MAILTO:katiecarlson@carlsonorchards.com
END:VEVENT
BEGIN:VEVENT
DTSTART;TZID=UTC:20231028T110000
DTEND;TZID=UTC:20231028T130000
DTSTAMP:20260424T011614
CREATED:20231019T163847Z
LAST-MODIFIED:20231019T163847Z
UID:4743-1698490800-1698498000@carlsonorchards.com
SUMMARY:High Flying Fun with Glenn the Kite Guy
DESCRIPTION:
URL:https://carlsonorchards.com/event/high-flying-fun-with-glenn-the-kite-guy/
LOCATION:The Cider Barn at Carlson Orchards\, 115 Oak Hill Rd\, Harvard\, MA\, 01451\, United States
ORGANIZER;CN="Carlson Orchards":MAILTO:katiecarlson@carlsonorchards.com
END:VEVENT
BEGIN:VEVENT
DTSTART;TZID=UTC:20231022T120000
DTEND;TZID=UTC:20231022T170000
DTSTAMP:20260424T011614
CREATED:20231019T163253Z
LAST-MODIFIED:20231019T163621Z
UID:4740-1697976000-1697994000@carlsonorchards.com
SUMMARY:Guest Food Truck - Northeast Smoke House
DESCRIPTION:
URL:https://carlsonorchards.com/event/guest-food-truck-nrtheast-smoke-house/
LOCATION:The Cider Barn at Carlson Orchards\, 115 Oak Hill Rd\, Harvard\, MA\, 01451\, United States
ORGANIZER;CN="Carlson Orchards":MAILTO:katiecarlson@carlsonorchards.com
END:VEVENT
BEGIN:VEVENT
DTSTART;TZID=UTC:20231021T120000
DTEND;TZID=UTC:20231021T180000
DTSTAMP:20260424T011614
CREATED:20231019T163116Z
LAST-MODIFIED:20231019T163116Z
UID:4738-1697889600-1697911200@carlsonorchards.com
SUMMARY:Guest Food Truck - Souped Up Food Truck
DESCRIPTION:
URL:https://carlsonorchards.com/event/guest-food-truck-souped-up-food-truck-2/
LOCATION:MA
ORGANIZER;CN="Carlson Orchards":MAILTO:katiecarlson@carlsonorchards.com
END:VEVENT
BEGIN:VEVENT
DTSTART;TZID=UTC:20231015T120000
DTEND;TZID=UTC:20231015T150000
DTSTAMP:20260424T011614
CREATED:20230929T205506Z
LAST-MODIFIED:20230929T205506Z
UID:4657-1697371200-1697382000@carlsonorchards.com
SUMMARY:Apple Festival Musical Guest - The Dots
DESCRIPTION:
URL:https://carlsonorchards.com/event/apple-festival-musical-guest-the-dots/
LOCATION:MA
END:VEVENT
BEGIN:VEVENT
DTSTART;TZID=UTC:20231015T080000
DTEND;TZID=UTC:20231015T170000
DTSTAMP:20260424T011614
CREATED:20230929T204230Z
LAST-MODIFIED:20230929T204230Z
UID:4649-1697356800-1697389200@carlsonorchards.com
SUMMARY:Apple Festival 14th and 15th
DESCRIPTION:
URL:https://carlsonorchards.com/event/apple-festival-14th-and-15th/
LOCATION:Carlson Orchards
ORGANIZER;CN="Carlson Orchards":MAILTO:katiecarlson@carlsonorchards.com
END:VEVENT
BEGIN:VEVENT
DTSTART;VALUE=DATE:20231014
DTEND;VALUE=DATE:20231015
DTSTAMP:20260424T011614
CREATED:20230929T202609Z
LAST-MODIFIED:20230929T203908Z
UID:4646-1697241600-1697327999@carlsonorchards.com
SUMMARY:Apple Festival
DESCRIPTION:
URL:https://carlsonorchards.com/event/apple-festival-4/
LOCATION:Carlson Orchards
ORGANIZER;CN="Carlson Orchards":MAILTO:katiecarlson@carlsonorchards.com
END:VEVENT
BEGIN:VEVENT
DTSTART;TZID=UTC:20231008T120000
DTEND;TZID=UTC:20231008T170000
DTSTAMP:20260424T011614
CREATED:20230929T202334Z
LAST-MODIFIED:20230929T202334Z
UID:4644-1696766400-1696784400@carlsonorchards.com
SUMMARY:Northeast Smoke House guest food truck
DESCRIPTION:
URL:https://carlsonorchards.com/event/northeast-smoke-house-guest-food-truck-2/
LOCATION:The Cider Barn at Carlson Orchards\, 115 Oak Hill Rd\, Harvard\, MA\, 01451\, United States
ORGANIZER;CN="Carlson Orchards":MAILTO:katiecarlson@carlsonorchards.com
END:VEVENT
BEGIN:VEVENT
DTSTART;TZID=UTC:20231007T120000
DTEND;TZID=UTC:20231007T180000
DTSTAMP:20260424T011614
CREATED:20230920T161337Z
LAST-MODIFIED:20230920T161337Z
UID:4602-1696680000-1696701600@carlsonorchards.com
SUMMARY:Guest Food Truck-  Souped Up Food Truck
DESCRIPTION:
URL:https://carlsonorchards.com/event/guest-food-truck-souped-up-food-truck/
LOCATION:The Cider Barn at Carlson Orchards\, 115 Oak Hill Rd\, Harvard\, MA\, 01451\, United States
ORGANIZER;CN="Carlson Orchards":MAILTO:katiecarlson@carlsonorchards.com
END:VEVENT
BEGIN:VEVENT
DTSTART;TZID=UTC:20231007T120000
DTEND;TZID=UTC:20231007T170000
DTSTAMP:20260424T011614
CREATED:20230929T202212Z
LAST-MODIFIED:20230929T202212Z
UID:4642-1696680000-1696698000@carlsonorchards.com
SUMMARY:Souped Up Food Truck guest food truck
DESCRIPTION:
URL:https://carlsonorchards.com/event/souped-up-food-truck-guest-food-truck-4/
LOCATION:The Cider Barn at Carlson Orchards\, 115 Oak Hill Rd\, Harvard\, MA\, 01451\, United States
ORGANIZER;CN="Carlson Orchards":MAILTO:katiecarlson@carlsonorchards.com
END:VEVENT
BEGIN:VEVENT
DTSTART;TZID=UTC:20231001T120000
DTEND;TZID=UTC:20231001T170000
DTSTAMP:20260424T011614
CREATED:20230929T201928Z
LAST-MODIFIED:20230929T201928Z
UID:4640-1696161600-1696179600@carlsonorchards.com
SUMMARY:Souped Up Food Truck guest food truck
DESCRIPTION:
URL:https://carlsonorchards.com/event/souped-up-food-truck-guest-food-truck-3/
LOCATION:The Cider Barn at Carlson Orchards\, 115 Oak Hill Rd\, Harvard\, MA\, 01451\, United States
ORGANIZER;CN="Carlson Orchards":MAILTO:katiecarlson@carlsonorchards.com
END:VEVENT
BEGIN:VEVENT
DTSTART;TZID=UTC:20230930T150000
DTEND;TZID=UTC:20230930T180000
DTSTAMP:20260424T011614
CREATED:20230830T130820Z
LAST-MODIFIED:20230830T130820Z
UID:4553-1696086000-1696096800@carlsonorchards.com
SUMMARY:Far From Eden - playing under the music tent
DESCRIPTION:
URL:https://carlsonorchards.com/event/far-from-eden-playing-under-the-music-tent/
LOCATION:The Cider Barn at Carlson Orchards\, 115 Oak Hill Rd\, Harvard\, MA\, 01451\, United States
END:VEVENT
BEGIN:VEVENT
DTSTART;TZID=UTC:20230930T120000
DTEND;TZID=UTC:20230930T180000
DTSTAMP:20260424T011614
CREATED:20230830T130923Z
LAST-MODIFIED:20230830T130950Z
UID:4556-1696075200-1696096800@carlsonorchards.com
SUMMARY:Souped Up Food Truck - guest food truck
DESCRIPTION:
URL:https://carlsonorchards.com/event/souped-up-food-truck-11/
LOCATION:The Cider Barn at Carlson Orchards\, 115 Oak Hill Rd\, Harvard\, MA\, 01451\, United States
ORGANIZER;CN="Carlson Orchards":MAILTO:katiecarlson@carlsonorchards.com
END:VEVENT
BEGIN:VEVENT
DTSTART;TZID=UTC:20230929T140000
DTEND;TZID=UTC:20230929T170000
DTSTAMP:20260424T011614
CREATED:20230929T205217Z
LAST-MODIFIED:20230929T205217Z
UID:4653-1695996000-1696006800@carlsonorchards.com
SUMMARY:Apple Festival Musical Guest - Back To The Garden
DESCRIPTION:
URL:https://carlsonorchards.com/event/apple-festival-musical-guest-back-to-the-garden/
LOCATION:The Cider Barn at Carlson Orchards\, 115 Oak Hill Rd\, Harvard\, MA\, 01451\, United States
ORGANIZER;CN="Carlson Orchards":MAILTO:katiecarlson@carlsonorchards.com
END:VEVENT
END:VCALENDAR