BEGIN:VCALENDAR
VERSION:2.0
PRODID:-//Welcome - ECPv6.15.20//NONSGML v1.0//EN
CALSCALE:GREGORIAN
METHOD:PUBLISH
X-WR-CALNAME:Welcome
X-ORIGINAL-URL:https://carlsonorchards.com
X-WR-CALDESC:Events for Welcome
REFRESH-INTERVAL;VALUE=DURATION:PT1H
X-Robots-Tag:noindex
X-PUBLISHED-TTL:PT1H
BEGIN:VTIMEZONE
TZID:UTC
BEGIN:STANDARD
TZOFFSETFROM:+0000
TZOFFSETTO:+0000
TZNAME:UTC
DTSTART:20190101T000000
END:STANDARD
END:VTIMEZONE
BEGIN:VTIMEZONE
TZID:America/New_York
BEGIN:DAYLIGHT
TZOFFSETFROM:-0500
TZOFFSETTO:-0400
TZNAME:EDT
DTSTART:20190310T070000
END:DAYLIGHT
BEGIN:STANDARD
TZOFFSETFROM:-0400
TZOFFSETTO:-0500
TZNAME:EST
DTSTART:20191103T060000
END:STANDARD
BEGIN:DAYLIGHT
TZOFFSETFROM:-0500
TZOFFSETTO:-0400
TZNAME:EDT
DTSTART:20200308T070000
END:DAYLIGHT
BEGIN:STANDARD
TZOFFSETFROM:-0400
TZOFFSETTO:-0500
TZNAME:EST
DTSTART:20201101T060000
END:STANDARD
BEGIN:DAYLIGHT
TZOFFSETFROM:-0500
TZOFFSETTO:-0400
TZNAME:EDT
DTSTART:20210314T070000
END:DAYLIGHT
BEGIN:STANDARD
TZOFFSETFROM:-0400
TZOFFSETTO:-0500
TZNAME:EST
DTSTART:20211107T060000
END:STANDARD
END:VTIMEZONE
BEGIN:VEVENT
DTSTART;TZID=UTC:20210522T110000
DTEND;TZID=UTC:20210522T193000
DTSTAMP:20260424T181059
CREATED:20210519T121837Z
LAST-MODIFIED:20210519T121859Z
UID:2059-1621681200-1621711800@carlsonorchards.com
SUMMARY:Trolley Dogs Food Truck
DESCRIPTION:We are proud to announce Trolley Dogs Food truck will be here this Saturday\, May 22nd\, from 11 am to 7:30 pm. They have the best dogs around and they also have amazing burgers and fries. Stop by for a pint and a great lunch or dinner. Don’t have time to stay\, thats ok. Do a quick grab and go and take it home. Check them out http://www.denteenterprises.com/
URL:https://carlsonorchards.com/event/trolley-dogs-food-truck-5/
LOCATION:The Cider Barn at Carlson Orchards\, 115 Oak Hill Rd\, Harvard\, MA\, 01451\, United States
END:VEVENT
BEGIN:VEVENT
DTSTART;TZID=UTC:20210521T110000
DTEND;TZID=UTC:20210521T193000
DTSTAMP:20260424T181059
CREATED:20210519T121611Z
LAST-MODIFIED:20210519T121724Z
UID:2056-1621594800-1621625400@carlsonorchards.com
SUMMARY:Trolley Dogs Food Truck
DESCRIPTION:We are proud to announce Trolley Dogs Food truck will be here this Friday\, May 21st\, from 11 am to 7:30 pm. They have the best dogs around and they also have amazing burgers and fries. Stop by for a pint and a great lunch or dinner. Don’t have time to stay\, thats ok. Do a quick grab and go and take it home. Check them out http://www.denteenterprises.com/ \n  \n  \n  \n 
URL:https://carlsonorchards.com/event/trolley-dogs-food-truck-4/
LOCATION:The Cider Barn at Carlson Orchards\, 115 Oak Hill Rd\, Harvard\, MA\, 01451\, United States
END:VEVENT
BEGIN:VEVENT
DTSTART;TZID=UTC:20210509T130000
DTEND;TZID=UTC:20210509T170000
DTSTAMP:20260424T181059
CREATED:20210429T145051Z
LAST-MODIFIED:20210507T174640Z
UID:2025-1620565200-1620579600@carlsonorchards.com
SUMMARY:SOUPED UP FOOD TRUCK
DESCRIPTION:Welcome back Chef Sylvia and Chef Dan. Its been a long week and we are craving your awesome food. These two take their passion for life and incorporated it into every item they make. They have raised the bar for every truck and restaurant out there. They make the best tater tots around! \nCheck out their  Mother’s Day Menu
URL:https://carlsonorchards.com/event/souped-up-food-truck-2/
LOCATION:The Cider Barn at Carlson Orchards\, 115 Oak Hill Rd\, Harvard\, MA\, 01451\, United States
END:VEVENT
BEGIN:VEVENT
DTSTART;VALUE=DATE:20210507
DTEND;VALUE=DATE:20210509
DTSTAMP:20260424T181059
CREATED:20210507T174934Z
LAST-MODIFIED:20210507T174934Z
UID:2043-1620345600-1620518399@carlsonorchards.com
SUMMARY:Cider Barn Tap Room CLOSED
DESCRIPTION:We will be closed today May 7 and tomorrow May 8 for a private family event. We will reopen on Sunday May 9th at 1 pm.
URL:https://carlsonorchards.com/event/cider-barn-tap-room-closed/
END:VEVENT
BEGIN:VEVENT
DTSTART;TZID=UTC:20210502T080000
DTEND;TZID=UTC:20210502T140000
DTSTAMP:20260424T181059
CREATED:20210429T142248Z
LAST-MODIFIED:20210429T142248Z
UID:2023-1619942400-1619964000@carlsonorchards.com
SUMMARY:OPENING AT 2:00 PM
DESCRIPTION:We will be opening at 2:00 today. So sleep in\, get some stuff done in the yard and join us for pints and food after 2:30 PM. Thank you. SOUPED UP FOOD TRUCK will also be here\, stay tuned for the menu.
URL:https://carlsonorchards.com/event/opening-at-200-pm/
END:VEVENT
BEGIN:VEVENT
DTSTART;TZID=UTC:20210429T180000
DTEND;TZID=UTC:20210429T200000
DTSTAMP:20260424T181059
CREATED:20210429T140140Z
LAST-MODIFIED:20210429T140214Z
UID:2016-1619719200-1619726400@carlsonorchards.com
SUMMARY:Robert Carlson Celebration of Life
DESCRIPTION:The Cider Barn will be closed today in honor of Robert Carlson\, beloved father\, son\, brother\, uncle\, friend\, and truck driver. Family and friends are welcome to join us at the Cider Barn from 6 to 8 pm to share stories and honor Robert. \n \n  \nTHE TRUCKER’S LAST RIDE\n  \nHe traveled the roads \nin years gone past \nA life he chose and \nHoped it would last \nDriving all night \nFrom state to state \nTrying to get home \nAnd arriving so late \nHe parked his truck now \nHis engine has stopped \nAnd for those who love him \nTheir hearts have dropped \nHe traveled the country \nWith a smile of great pride \nNow he drives the streets of Heaven \nOn the trucker’s last ride \n“MAY GOD RIDE WITH YOU… 10-4 AND GOODBYE”
URL:https://carlsonorchards.com/event/robert-carlson-celebration-of-life/
LOCATION:The Cider Barn at Carlson Orchards\, 115 Oak Hill Rd\, Harvard\, MA\, 01451\, United States
END:VEVENT
BEGIN:VEVENT
DTSTART;TZID=UTC:20210424T110000
DTEND;TZID=UTC:20210424T180000
DTSTAMP:20260424T181059
CREATED:20210417T164511Z
LAST-MODIFIED:20210417T165618Z
UID:2005-1619262000-1619287200@carlsonorchards.com
SUMMARY:Carlson Orchards Food Truck Season - NAC Food Truck
DESCRIPTION:Welcome back Chef Brian and his NAC Food Truck! \nWe are so excited to have Chef Brian back this year. He food is amazing and he makes the best french fries EVER!!!! Stop by the orchard from 11 am to 6 pm to grab a pint of hard cider and some great food! Check out his menu here. \nTo order from NAC Food Truck online click here. \n 
URL:https://carlsonorchards.com/event/carlson-orchards-food-truck-season-nac-food-truck/
LOCATION:The Cider Barn at Carlson Orchards\, 115 Oak Hill Rd\, Harvard\, MA\, 01451\, United States
END:VEVENT
BEGIN:VEVENT
DTSTART;TZID=UTC:20210424T110000
DTEND;TZID=UTC:20210424T180000
DTSTAMP:20260424T181059
CREATED:20210219T211109Z
LAST-MODIFIED:20210219T211109Z
UID:1931-1619262000-1619287200@carlsonorchards.com
SUMMARY:2021 Food Truck Season at Carlson Orchards - N.A.C. Food Truck
DESCRIPTION:2021 Food Truck Season at Carlson Orchards \nWe are so happy to see the return of food trucks here at the orchard. It is great to welcome back Chef Brian and the North Atlantic Catering Company (aka N.A.C). Chef Brian will be serving up his awesome food on April 24th form 11 am to 6 pm. Come out to enjoy some great food (the best fries we have ever had!) a pint of cider.
URL:https://carlsonorchards.com/event/2021-food-truck-season-at-carlson-orchards-n-a-c-food-truck/
LOCATION:The Cider Barn at Carlson Orchards\, 115 Oak Hill Rd\, Harvard\, MA\, 01451\, United States
END:VEVENT
BEGIN:VEVENT
DTSTART;TZID=UTC:20210226T170000
DTEND;TZID=UTC:20210226T200000
DTSTAMP:20260424T181059
CREATED:20210224T134319Z
LAST-MODIFIED:20210224T134319Z
UID:1943-1614358800-1614369600@carlsonorchards.com
SUMMARY:Moonlit Snowshoeing & Skiing
DESCRIPTION:Join us on Friday (Feb. 26th) from 5-8pm\, WEATHER PERMITTING\, for a moonlit hike\, snowshoe\, or cross country skiing in the orchard. The full moon will provide an amazing experience in the orchard. We will have a few fire pits going to keep you warm. Head to the Cider Barn\, before or after\, for a pint of hard cider and a pizza.  Please do not bring any alcohol into the orchard or beyond our designated patio area.
URL:https://carlsonorchards.com/event/moonlit-snowshoeing-skiing/
LOCATION:The Cider Barn at Carlson Orchards\, 115 Oak Hill Rd\, Harvard\, MA\, 01451\, United States
END:VEVENT
BEGIN:VEVENT
DTSTART;TZID=UTC:20210224T080000
DTEND;TZID=UTC:20210224T170000
DTSTAMP:20260424T181059
CREATED:20210224T135002Z
LAST-MODIFIED:20210224T135002Z
UID:1945-1614153600-1614186000@carlsonorchards.com
SUMMARY:Moonlit Snow Shoeing & Cross Country Skiing
DESCRIPTION:Join us on Saturday (Feb. 27th) from 5-8pm\, WEATHER PERMITTING\, for a moonlit hike\, snowshoe\, or cross country skiing in the orchard. The full moon will provide an amazing experience in the orchard. We will have a few fire pits going to keep you warm. Head to the Cider Barn\, before or after\, for a pint of hard cider and a pizza.  Please do not bring any alcohol into the orchard or beyond our designated patio area.
URL:https://carlsonorchards.com/event/moonlit-snow-shoeing-cross-country-skiing/
END:VEVENT
BEGIN:VEVENT
DTSTART;TZID=UTC:20201213T120000
DTEND;TZID=UTC:20201213T170000
DTSTAMP:20260424T181059
CREATED:20201210T202429Z
LAST-MODIFIED:20201210T202652Z
UID:1680-1607860800-1607878800@carlsonorchards.com
SUMMARY:Souped Up Food Truck
DESCRIPTION:Welcome back Souped Up Food Truck! We are so happy to have Chef Dan and Chef Silvia back at Carlson Orchards. These two always bring their “A Game”. The will be cooking from 12-5 pm. So\, bring your appetite for some great food and enjoy a pint of hard cider!
URL:https://carlsonorchards.com/event/souped-up-food-truck/
LOCATION:The Cider Barn at Carlson Orchards\, 115 Oak Hill Rd\, Harvard\, MA\, 01451\, United States
END:VEVENT
BEGIN:VEVENT
DTSTART;TZID=America/New_York:20201115T113000
DTEND;TZID=America/New_York:20201115T170000
DTSTAMP:20260424T181059
CREATED:20200811T142526Z
LAST-MODIFIED:20200811T142526Z
UID:1024-1605439800-1605459600@carlsonorchards.com
SUMMARY:Souped Up Food Truck
DESCRIPTION:Welcome back Souped Up Food Truck. Their innovative approach to food is nothing short of amazing. \nVisit their website to order on line at https://soupedupfood.com/ \n  \n \n 
URL:https://carlsonorchards.com/event/date-night-at-carlson-orchards/
LOCATION:The Cider Barn at Carlson Orchards\, 115 Oak Hill Rd\, Harvard\, MA\, 01451\, United States
END:VEVENT
BEGIN:VEVENT
DTSTART;TZID=America/New_York:20201115T113000
DTEND;TZID=America/New_York:20201115T170000
DTSTAMP:20260424T181059
CREATED:20200811T142526Z
LAST-MODIFIED:20200811T142526Z
UID:1424-1605439800-1605459600@carlsonorchards.com
SUMMARY:Souped Up Food Truck
DESCRIPTION:Welcome back Souped Up Food Truck. Their innovative approach to food is nothing short of amazing. \nVisit their website to order on line at https://soupedupfood.com/ \n  \n \n 
URL:https://carlsonorchards.com/event/date-night-at-carlson-orchards-2/
LOCATION:The Cider Barn at Carlson Orchards\, 115 Oak Hill Rd\, Harvard\, MA\, 01451\, United States
END:VEVENT
BEGIN:VEVENT
DTSTART;TZID=America/New_York:20201114T110000
DTEND;TZID=America/New_York:20201114T173000
DTSTAMP:20260424T181059
CREATED:20200812T105340Z
LAST-MODIFIED:20200812T105340Z
UID:1053-1605351600-1605375000@carlsonorchards.com
SUMMARY:Trolley Dogs Food Truck
DESCRIPTION:Welcome back Trolley Dogs Food Truck! They will be here cooking up those Gigantic All Beef Speciality Hot Dogs. Stop buy for some great food and a pint of hard cider. Trolley Dogs will be serving from 11:30 am to 5:30 pm. \nCheck them out at http://www.denteenterprises.com/
URL:https://carlsonorchards.com/event/trolley-dogs-food-truck-2/
LOCATION:The Cider Barn at Carlson Orchards\, 115 Oak Hill Rd\, Harvard\, MA\, 01451\, United States
END:VEVENT
BEGIN:VEVENT
DTSTART;TZID=America/New_York:20201114T110000
DTEND;TZID=America/New_York:20201114T173000
DTSTAMP:20260424T181059
CREATED:20200812T105340Z
LAST-MODIFIED:20200812T105340Z
UID:1429-1605351600-1605375000@carlsonorchards.com
SUMMARY:Trolley Dogs Food Truck
DESCRIPTION:Welcome back Trolley Dogs Food Truck! They will be here cooking up those Gigantic All Beef Speciality Hot Dogs. Stop buy for some great food and a pint of hard cider. Trolley Dogs will be serving from 11:30 am to 5:30 pm. \nCheck them out at http://www.denteenterprises.com/
URL:https://carlsonorchards.com/event/trolley-dogs-food-truck-2-2/
LOCATION:The Cider Barn at Carlson Orchards\, 115 Oak Hill Rd\, Harvard\, MA\, 01451\, United States
END:VEVENT
BEGIN:VEVENT
DTSTART;TZID=America/New_York:20201031T120000
DTEND;TZID=America/New_York:20201031T170000
DTSTAMP:20260424T181059
CREATED:20200811T152752Z
LAST-MODIFIED:20200811T152752Z
UID:1044-1604145600-1604163600@carlsonorchards.com
SUMMARY:Whoo(pie) Wagon
DESCRIPTION:Whoo(pie) Wagon will be here on Saturday October 31st from 11:00 pm until 2:00 pm. Check out their story and see some of the amazing Whoo(Pie) offerings at https://thewhoopiewagon.com/
URL:https://carlsonorchards.com/event/whoopie-wagon/
LOCATION:The Cider Barn at Carlson Orchards\, 115 Oak Hill Rd\, Harvard\, MA\, 01451\, United States
END:VEVENT
BEGIN:VEVENT
DTSTART;TZID=America/New_York:20201031T120000
DTEND;TZID=America/New_York:20201031T170000
DTSTAMP:20260424T181059
CREATED:20200811T152752Z
LAST-MODIFIED:20200811T152752Z
UID:1428-1604145600-1604163600@carlsonorchards.com
SUMMARY:Whoo(pie) Wagon
DESCRIPTION:Whoo(pie) Wagon will be here on Saturday October 31st from 11:00 pm until 2:00 pm. Check out their story and see some of the amazing Whoo(Pie) offerings at https://thewhoopiewagon.com/
URL:https://carlsonorchards.com/event/whoopie-wagon-2/
LOCATION:The Cider Barn at Carlson Orchards\, 115 Oak Hill Rd\, Harvard\, MA\, 01451\, United States
END:VEVENT
BEGIN:VEVENT
DTSTART;TZID=America/New_York:20201031T113000
DTEND;TZID=America/New_York:20201031T163000
DTSTAMP:20260424T181059
CREATED:20200807T144408Z
LAST-MODIFIED:20200807T144408Z
UID:1423-1604143800-1604161800@carlsonorchards.com
SUMMARY:Scott Brothers\, New American Meat Company
DESCRIPTION:Enjoy a socially distant Halloween with Scott Brothers\, New American Meat Co. at the Cider Barn at Carlson Orchards on October 31st. Their talent and skill in making sausages and smoking meats is unprecedented. There will be no need to be scared\, just stop by and enjoy some amazing food and hard cider. Check out the Scott Brothers at https://www.sbmeat.com 
URL:https://carlsonorchards.com/event/scott-brothers-new-american-meat-company-2/
LOCATION:The Cider Barn at Carlson Orchards\, 115 Oak Hill Rd\, Harvard\, MA\, 01451\, United States
END:VEVENT
BEGIN:VEVENT
DTSTART;TZID=America/New_York:20201031T113000
DTEND;TZID=America/New_York:20201031T163000
DTSTAMP:20260424T181059
CREATED:20200807T144408Z
LAST-MODIFIED:20200807T144408Z
UID:1021-1604143800-1604161800@carlsonorchards.com
SUMMARY:Scott Brothers\, New American Meat Company
DESCRIPTION:Enjoy a socially distant Halloween with Scott Brothers\, New American Meat Co. at the Cider Barn at Carlson Orchards on October 31st. Their talent and skill in making sausages and smoking meats is unprecedented. There will be no need to be scared\, just stop by and enjoy some amazing food and hard cider. Check out the Scott Brothers at https://www.sbmeat.com 
URL:https://carlsonorchards.com/event/scott-brothers-new-american-meat-company/
LOCATION:The Cider Barn at Carlson Orchards\, 115 Oak Hill Rd\, Harvard\, MA\, 01451\, United States
END:VEVENT
BEGIN:VEVENT
DTSTART;TZID=America/New_York:20201031T110000
DTEND;TZID=America/New_York:20201031T140000
DTSTAMP:20260424T181059
CREATED:20201029T144327Z
LAST-MODIFIED:20201029T144327Z
UID:1244-1604142000-1604152800@carlsonorchards.com
SUMMARY:Pick Your Treat
DESCRIPTION:It’s that time of year again. Bring the kids this Saturday\, from 11 to 2 pm\, in-costume and they can choose a free small pumpkin to bring home and receive a tasty candy treat. Don’t forget to grab a cider while you are here. Happy Halloween!
URL:https://carlsonorchards.com/event/pick-your-treat/
LOCATION:The Cider Barn at Carlson Orchards\, 115 Oak Hill Rd\, Harvard\, MA\, 01451\, United States
END:VEVENT
BEGIN:VEVENT
DTSTART;TZID=America/New_York:20201031T110000
DTEND;TZID=America/New_York:20201031T140000
DTSTAMP:20260424T181059
CREATED:20201029T144327Z
LAST-MODIFIED:20201029T144327Z
UID:1433-1604142000-1604152800@carlsonorchards.com
SUMMARY:Pick Your Treat
DESCRIPTION:It’s that time of year again. Bring the kids this Saturday\, from 11 to 2 pm\, in-costume and they can choose a free small pumpkin to bring home and receive a tasty candy treat. Don’t forget to grab a cider while you are here. Happy Halloween!
URL:https://carlsonorchards.com/event/pick-your-treat-2/
LOCATION:The Cider Barn at Carlson Orchards\, 115 Oak Hill Rd\, Harvard\, MA\, 01451\, United States
END:VEVENT
BEGIN:VEVENT
DTSTART;TZID=America/New_York:20201024T160000
DTEND;TZID=America/New_York:20201024T193000
DTSTAMP:20260424T181059
CREATED:20201022T171944Z
LAST-MODIFIED:20201022T171944Z
UID:1173-1603555200-1603567800@carlsonorchards.com
SUMMARY:Harvard's Own Fun Bucket Band
DESCRIPTION:Join us for some great music performed by Harvard’s Own Fun Bucket Band. Come on out and enjoy some great tunes and a hard cider!
URL:https://carlsonorchards.com/event/harvards-own-fun-bucket-band/
LOCATION:The Cider Barn at Carlson Orchards\, 115 Oak Hill Rd\, Harvard\, MA\, 01451\, United States
END:VEVENT
BEGIN:VEVENT
DTSTART;TZID=America/New_York:20201024T160000
DTEND;TZID=America/New_York:20201024T193000
DTSTAMP:20260424T181059
CREATED:20201022T171944Z
LAST-MODIFIED:20201022T171944Z
UID:1431-1603555200-1603567800@carlsonorchards.com
SUMMARY:Harvard's Own Fun Bucket Band
DESCRIPTION:Join us for some great music performed by Harvard’s Own Fun Bucket Band. Come on out and enjoy some great tunes and a hard cider!
URL:https://carlsonorchards.com/event/harvards-own-fun-bucket-band-2/
LOCATION:The Cider Barn at Carlson Orchards\, 115 Oak Hill Rd\, Harvard\, MA\, 01451\, United States
END:VEVENT
BEGIN:VEVENT
DTSTART;TZID=America/New_York:20201023T163000
DTEND;TZID=America/New_York:20201023T193000
DTSTAMP:20260424T181059
CREATED:20201023T165939Z
LAST-MODIFIED:20201023T165939Z
UID:1432-1603470600-1603481400@carlsonorchards.com
SUMMARY:Date Night with Souped Up Food Truck
DESCRIPTION:Soup Up Food Truck has been a great friend of the Cider Barn all year and we are honored to have them back for another “Date Night Friday.” Bring someone special to the Cider Barn for an amazing meal and some wonderful hard cider. Check out their website for more details about their food. Chef Dan and Chef Sylvia are very talented and you will love their food as much as we do! Stay tuned for the menu. \nhttps://soupedupfood.com/
URL:https://carlsonorchards.com/event/date-night-with-souped-up-food-truck-2-2/
LOCATION:The Cider Barn at Carlson Orchards\, 115 Oak Hill Rd\, Harvard\, MA\, 01451\, United States
END:VEVENT
BEGIN:VEVENT
DTSTART;TZID=America/New_York:20201023T163000
DTEND;TZID=America/New_York:20201023T193000
DTSTAMP:20260424T181059
CREATED:20201023T165939Z
LAST-MODIFIED:20201023T165939Z
UID:1175-1603470600-1603481400@carlsonorchards.com
SUMMARY:Date Night with Souped Up Food Truck
DESCRIPTION:Soup Up Food Truck has been a great friend of the Cider Barn all year and we are honored to have them back for another “Date Night Friday.” Bring someone special to the Cider Barn for an amazing meal and some wonderful hard cider. Check out their website for more details about their food. Chef Dan and Chef Sylvia are very talented and you will love their food as much as we do! Stay tuned for the menu. \nhttps://soupedupfood.com/
URL:https://carlsonorchards.com/event/date-night-with-souped-up-food-truck-2/
LOCATION:The Cider Barn at Carlson Orchards\, 115 Oak Hill Rd\, Harvard\, MA\, 01451\, United States
END:VEVENT
BEGIN:VEVENT
DTSTART;TZID=America/New_York:20200816T120000
DTEND;TZID=America/New_York:20200816T170000
DTSTAMP:20260424T181059
CREATED:20200812T110851Z
LAST-MODIFIED:20200812T110851Z
UID:1057-1597579200-1597597200@carlsonorchards.com
SUMMARY:Uhlman's Ice Cream Truck
DESCRIPTION:After picking some fresh peaches\, there is no better way to relax than with Uhlman’s Homemade Ice Cream. They will be serving up their delicious ice cream from 12:00 pm to 5:00 pm. \nCheck out their story at https://www.uhlmansicecream.com/
URL:https://carlsonorchards.com/event/uhlmans-ice-cream-truck-2/
LOCATION:The Cider Barn at Carlson Orchards\, 115 Oak Hill Rd\, Harvard\, MA\, 01451\, United States
END:VEVENT
BEGIN:VEVENT
DTSTART;TZID=America/New_York:20200816T120000
DTEND;TZID=America/New_York:20200816T170000
DTSTAMP:20260424T181059
CREATED:20200812T110851Z
LAST-MODIFIED:20200812T110851Z
UID:1430-1597579200-1597597200@carlsonorchards.com
SUMMARY:Uhlman's Ice Cream Truck
DESCRIPTION:After picking some fresh peaches\, there is no better way to relax than with Uhlman’s Homemade Ice Cream. They will be serving up their delicious ice cream from 12:00 pm to 5:00 pm. \nCheck out their story at https://www.uhlmansicecream.com/
URL:https://carlsonorchards.com/event/uhlmans-ice-cream-truck-2-2/
LOCATION:The Cider Barn at Carlson Orchards\, 115 Oak Hill Rd\, Harvard\, MA\, 01451\, United States
END:VEVENT
BEGIN:VEVENT
DTSTART;TZID=America/New_York:20200815T120000
DTEND;TZID=America/New_York:20200815T170000
DTSTAMP:20260424T181059
CREATED:20200811T152910Z
LAST-MODIFIED:20200811T152910Z
UID:1039-1597492800-1597510800@carlsonorchards.com
SUMMARY:Uhlman's Ice Cream Truck
DESCRIPTION:  \nIt doesn’t get any better than Uhlman’s Ice Cream from Westborough\, MA. There is no better way to cool off on a hot day than with incredible ice cream. Uhlman’s will be here from 12:00 to 5:00 pm. Check out their story at https://www.uhlmansicecream.com/
URL:https://carlsonorchards.com/event/uhlmans-ice-cream-truck/
LOCATION:The Cider Barn at Carlson Orchards\, 115 Oak Hill Rd\, Harvard\, MA\, 01451\, United States
END:VEVENT
BEGIN:VEVENT
DTSTART;TZID=America/New_York:20200815T120000
DTEND;TZID=America/New_York:20200815T170000
DTSTAMP:20260424T181059
CREATED:20200811T152910Z
LAST-MODIFIED:20200811T152910Z
UID:1427-1597492800-1597510800@carlsonorchards.com
SUMMARY:Uhlman's Ice Cream Truck
DESCRIPTION:  \nIt doesn’t get any better than Uhlman’s Ice Cream from Westborough\, MA. There is no better way to cool off on a hot day than with incredible ice cream. Uhlman’s will be here from 12:00 to 5:00 pm. Check out their story at https://www.uhlmansicecream.com/
URL:https://carlsonorchards.com/event/uhlmans-ice-cream-truck-3/
LOCATION:The Cider Barn at Carlson Orchards\, 115 Oak Hill Rd\, Harvard\, MA\, 01451\, United States
END:VEVENT
BEGIN:VEVENT
DTSTART;TZID=America/New_York:20200815T100000
DTEND;TZID=America/New_York:20200815T160000
DTSTAMP:20260424T181059
CREATED:20200811T152704Z
LAST-MODIFIED:20200811T152704Z
UID:1035-1597485600-1597507200@carlsonorchards.com
SUMMARY:Trolley Dogs Food Truck
DESCRIPTION:We are also very excited to have Trolley Dogs serving up their awesome breakfast sandwiches starting at 10 am and they will be also serving up their gigantic dogs and sandwiches as well until 4 pm. You have not lived unless you have had one of their dogs! \nCheck them out at http://www.denteenterprises.com/ \nOrder on line at http://Bestfoodtrucks.com/trolley_dogs
URL:https://carlsonorchards.com/event/trolley-dogs-food-truck/
LOCATION:The Cider Barn at Carlson Orchards\, 115 Oak Hill Rd\, Harvard\, MA\, 01451\, United States
END:VEVENT
END:VCALENDAR