BEGIN:VCALENDAR
VERSION:2.0
PRODID:-//Welcome - ECPv6.15.20//NONSGML v1.0//EN
CALSCALE:GREGORIAN
METHOD:PUBLISH
X-WR-CALNAME:Welcome
X-ORIGINAL-URL:https://carlsonorchards.com
X-WR-CALDESC:Events for Welcome
REFRESH-INTERVAL;VALUE=DURATION:PT1H
X-Robots-Tag:noindex
X-PUBLISHED-TTL:PT1H
BEGIN:VTIMEZONE
TZID:America/New_York
BEGIN:DAYLIGHT
TZOFFSETFROM:-0500
TZOFFSETTO:-0400
TZNAME:EDT
DTSTART:20200308T070000
END:DAYLIGHT
BEGIN:STANDARD
TZOFFSETFROM:-0400
TZOFFSETTO:-0500
TZNAME:EST
DTSTART:20201101T060000
END:STANDARD
BEGIN:DAYLIGHT
TZOFFSETFROM:-0500
TZOFFSETTO:-0400
TZNAME:EDT
DTSTART:20210314T070000
END:DAYLIGHT
BEGIN:STANDARD
TZOFFSETFROM:-0400
TZOFFSETTO:-0500
TZNAME:EST
DTSTART:20211107T060000
END:STANDARD
BEGIN:DAYLIGHT
TZOFFSETFROM:-0500
TZOFFSETTO:-0400
TZNAME:EDT
DTSTART:20220313T070000
END:DAYLIGHT
BEGIN:STANDARD
TZOFFSETFROM:-0400
TZOFFSETTO:-0500
TZNAME:EST
DTSTART:20221106T060000
END:STANDARD
END:VTIMEZONE
BEGIN:VTIMEZONE
TZID:UTC
BEGIN:STANDARD
TZOFFSETFROM:+0000
TZOFFSETTO:+0000
TZNAME:UTC
DTSTART:20200101T000000
END:STANDARD
END:VTIMEZONE
BEGIN:VEVENT
DTSTART;TZID=America/New_York:20210718T120000
DTEND;TZID=America/New_York:20210718T173000
DTSTAMP:20260424T152742
CREATED:20210625T210546Z
LAST-MODIFIED:20210713T170131Z
UID:2191-1626609600-1626629400@carlsonorchards.com
SUMMARY:Trolley Dogs Food Truck
DESCRIPTION:Join us and the Trolley Dogs & More food truck Sunday\, July 18th\, 2021. The will be at the Cider Barn form 12 pm to 5:30 pm. Remember\, they are more than just dogs. They have great burgers\, fires\, and amazing Rickeys. \n 
URL:https://carlsonorchards.com/event/trolley-dogs-food-truck-14/
LOCATION:The Cider Barn at Carlson Orchards\, 115 Oak Hill Rd\, Harvard\, MA\, 01451\, United States
END:VEVENT
BEGIN:VEVENT
DTSTART;TZID=America/New_York:20210717T120000
DTEND;TZID=America/New_York:20210717T193000
DTSTAMP:20260424T152742
CREATED:20210625T205722Z
LAST-MODIFIED:20210713T165922Z
UID:2187-1626523200-1626550200@carlsonorchards.com
SUMMARY:SOUPED UP FOOD TRUCK
DESCRIPTION:Welcome back Chef Sylvia and Chef Dan. Its been a long week and we are craving your awesome food. These two take their passion for life and incorporated it into every item they make. They have raised the bar for every truck and restaurant out there. They make the best tater tots around! \n 
URL:https://carlsonorchards.com/event/souped-up-food-truck-3/
LOCATION:The Cider Barn at Carlson Orchards\, 115 Oak Hill Rd\, Harvard\, MA\, 01451\, United States
END:VEVENT
BEGIN:VEVENT
DTSTART;TZID=UTC:20210710T120000
DTEND;TZID=UTC:20210710T193000
DTSTAMP:20260424T152742
CREATED:20210625T181938Z
LAST-MODIFIED:20210625T181938Z
UID:2177-1625918400-1625945400@carlsonorchards.com
SUMMARY:Trolley Dogs Food Truck
DESCRIPTION:Join us and the Trolley Dogs food truck Friday\, July 10th\, 2021. The will be at the Cider Barn form 12 pm to 7:30 pm. Remember\, they are more than just dogs. They have great burgers and amazing Rickeys\, we recommend two because of the hot weather thats expected. \n 
URL:https://carlsonorchards.com/event/trolley-dogs-food-truck-12/
LOCATION:The Cider Barn at Carlson Orchards\, 115 Oak Hill Rd\, Harvard\, MA\, 01451\, United States
END:VEVENT
BEGIN:VEVENT
DTSTART;TZID=UTC:20210710T113000
DTEND;TZID=UTC:20210710T190000
DTSTAMP:20260424T152742
CREATED:20210623T152215Z
LAST-MODIFIED:20210625T182035Z
UID:2142-1625916600-1625943600@carlsonorchards.com
SUMMARY:Uhlman's Ice Cream Truck
DESCRIPTION:Uhlman’s has been serving up amazing ice cream for over 50 years. We are so excited to welcome them back for the 2021 season! \nCheck out their story here.
URL:https://carlsonorchards.com/event/uhlmans-ice-cream-truck-5/
LOCATION:The Cider Barn at Carlson Orchards\, 115 Oak Hill Rd\, Harvard\, MA\, 01451\, United States
END:VEVENT
BEGIN:VEVENT
DTSTART;TZID=UTC:20210709T120000
DTEND;TZID=UTC:20210709T193000
DTSTAMP:20260424T152742
CREATED:20210625T181607Z
LAST-MODIFIED:20210625T181607Z
UID:2175-1625832000-1625859000@carlsonorchards.com
SUMMARY:Trolley Dogs Food Truck
DESCRIPTION:Join us and the Trolley Dogs food truck Friday\, July 9th\, 2021. The will be at the Cider Barn form 12 pm to 7:30 pm. Remember\, they are more than just dogs. They have great burgers and amazing Rickeys\, we recommend two because of the hot weather thats expected. \n 
URL:https://carlsonorchards.com/event/trolley-dogs-food-truck-11/
LOCATION:The Cider Barn at Carlson Orchards\, 115 Oak Hill Rd\, Harvard\, MA\, 01451\, United States
END:VEVENT
BEGIN:VEVENT
DTSTART;TZID=UTC:20210704T143000
DTEND;TZID=UTC:20210704T173000
DTSTAMP:20260424T152742
CREATED:20210604T170105Z
LAST-MODIFIED:20210702T203625Z
UID:2090-1625409000-1625419800@carlsonorchards.com
SUMMARY:Harvard's Very Own Phun Bucket Band
DESCRIPTION:This Saturday’s musical act is Harvard’s Very Own Phun Bucket Band. It is great to have the guys back again to the Cider Barn\, they are very talented and alway put on a great show. \nThe guys are playing to support Harvards Five Sparks. The bucket placed in front of the band is for donating money to Five Sparks\, not for tips for the band. These guys give back 100%. Check out their great projects at Five Sparks. \nStop by for some music\, cider\, and food from Scott Brothers New American Meat Company! As always\, there is no cover charge and no need to purchase tickets!
URL:https://carlsonorchards.com/event/harvards-very-own-fun-bucket-band/
LOCATION:The Cider Barn at Carlson Orchards\, 115 Oak Hill Rd\, Harvard\, MA\, 01451\, United States
END:VEVENT
BEGIN:VEVENT
DTSTART;TZID=UTC:20210704T113000
DTEND;TZID=UTC:20210704T140000
DTSTAMP:20260424T152742
CREATED:20210519T122505Z
LAST-MODIFIED:20210701T203558Z
UID:2064-1625398200-1625407200@carlsonorchards.com
SUMMARY:Acton Music Project
DESCRIPTION:Acton Music Project will be providing live entertainment this Sunday\, July 4th from 11:30 am to 2:30 pm. Stop by for some great music\, a pint\, and some great food from Trolley Dogs Food Truck. \nCheck out the Acton Music Project here http://www.actonmusicproject.com/
URL:https://carlsonorchards.com/event/acton-music-project/
LOCATION:The Cider Barn at Carlson Orchards\, 115 Oak Hill Rd\, Harvard\, MA\, 01451\, United States
END:VEVENT
BEGIN:VEVENT
DTSTART;TZID=UTC:20210704T110000
DTEND;TZID=UTC:20210704T160000
DTSTAMP:20260424T152742
CREATED:20210429T141837Z
LAST-MODIFIED:20210703T222950Z
UID:2020-1625396400-1625414400@carlsonorchards.com
SUMMARY:PIG ROAST!! SCOTT BROTHERS: New American Meat Company
DESCRIPTION:We are so happy to have Scott Brothers Meats back to the Cider Barn at Carlson Orchards for a classic pig roast to help celebrate America’s Birthday! \nThese two know how to smoke meats! Join us on  Sunday\, July 4th from 11:00am to 4:00 pm! Stop by for a pint of hard cider and some incredible food! Check out this amazing 4th of July Menu. \n  \n  \n\n\n\n\n\n\n\n  \n 
URL:https://carlsonorchards.com/event/scott-brothers-catering-is-back/
LOCATION:The Cider Barn at Carlson Orchards\, 115 Oak Hill Rd\, Harvard\, MA\, 01451\, United States
END:VEVENT
BEGIN:VEVENT
DTSTART;TZID=UTC:20210703T160000
DTEND;TZID=UTC:20210703T193000
DTSTAMP:20260424T152742
CREATED:20210625T174305Z
LAST-MODIFIED:20210703T143627Z
UID:2171-1625328000-1625340600@carlsonorchards.com
SUMMARY:THE BARN BURNERS BAND - POSTPONED TO JULY 24th
DESCRIPTION:The Cider Barn is proud to welcome THE BARN BURNERS to the orchard for the 4th of July weekend! They will be here July 3rd from 4 pm to 7:30 pm. Check out their Facebook page here. \n  \n 
URL:https://carlsonorchards.com/event/the-barn-burners-band/
LOCATION:MA
END:VEVENT
BEGIN:VEVENT
DTSTART;TZID=UTC:20210703T120000
DTEND;TZID=UTC:20210703T193000
DTSTAMP:20260424T152742
CREATED:20210623T152338Z
LAST-MODIFIED:20210703T144355Z
UID:2140-1625313600-1625340600@carlsonorchards.com
SUMMARY:Kith and Kin Food Truck - POSTPONED DUE TO WEATHER
DESCRIPTION:We will have Kith and Kin back to the farm soon\, we will updated the calendar when they are back. \n  \nIt great to have Kith and Kin is back at The Cider Barn for the 4th of July weekend. Kith and Kin has amazing food and we are so happy they are part of our truck rotation. Stop by for some great food and a pint of cider. \nCheck out Kith and Kin here.
URL:https://carlsonorchards.com/event/kith-and-kin-food-truck-3/
LOCATION:The Cider Barn at Carlson Orchards\, 115 Oak Hill Rd\, Harvard\, MA\, 01451\, United States
END:VEVENT
BEGIN:VEVENT
DTSTART;TZID=UTC:20210702T163000
DTEND;TZID=UTC:20210702T193000
DTSTAMP:20260424T152742
CREATED:20210625T173344Z
LAST-MODIFIED:20210701T203805Z
UID:2169-1625243400-1625254200@carlsonorchards.com
SUMMARY:BARE HILL BAND - POSTPONED DUE TO WEATHER
DESCRIPTION:Postponed due to the weather.  \nWE WILL ANNOUNCE THE NEW DATE SOON! \n  \nHarvard’s very own BARE HILL BAND will be at the orchard to ring in the 4th of July weekend. Stop by to catch great music\, food\, and cider. We love this band! Check them out here. \n  \n 
URL:https://carlsonorchards.com/event/bare-hill-band/
LOCATION:MA
END:VEVENT
BEGIN:VEVENT
DTSTART;TZID=UTC:20210702T153000
DTEND;TZID=UTC:20210702T193000
DTSTAMP:20260424T152742
CREATED:20210616T182740Z
LAST-MODIFIED:20210701T204153Z
UID:2144-1625239800-1625254200@carlsonorchards.com
SUMMARY:Trolley Dogs & More Food Truck - POSTPONED DUE TO WEATHER
DESCRIPTION:Due to the weather forecast for tomorrow\, we have had to postpone Trolley Dogs & More.  \nWe will announce the new date soon! \n  \n \nJoin us and the Trolley Dogs food truck Friday\, July 2nd\, 2021. The will be at the Cider Barn form 3:30 pm to 7:30 pm. Remember\, they are more than just dogs. They have great burgers and amazing Rickeys\, we recommend two because of the hot weather thats expected. \n 
URL:https://carlsonorchards.com/event/trolley-dogs-food-truck-9/
LOCATION:The Cider Barn at Carlson Orchards\, 115 Oak Hill Rd\, Harvard\, MA\, 01451\, United States
END:VEVENT
BEGIN:VEVENT
DTSTART;TZID=UTC:20210627T130000
DTEND;TZID=UTC:20210627T150000
DTSTAMP:20260424T152743
CREATED:20210623T151528Z
LAST-MODIFIED:20210623T151528Z
UID:2155-1624798800-1624806000@carlsonorchards.com
SUMMARY:Live Music with "Back to the Garden"
DESCRIPTION:It is with great pride that we welcome Back to the Garden to Carlson Orchards on June 27th from 1pm to 3pm. Check them out on Facebook here. \n 
URL:https://carlsonorchards.com/event/live-music-with-back-to-the-garden/
LOCATION:The Cider Barn at Carlson Orchards\, 115 Oak Hill Rd\, Harvard\, MA\, 01451\, United States
END:VEVENT
BEGIN:VEVENT
DTSTART;TZID=UTC:20210627T110000
DTEND;TZID=UTC:20210627T160000
DTSTAMP:20260424T152743
CREATED:20210623T151041Z
LAST-MODIFIED:20210623T151041Z
UID:2152-1624791600-1624809600@carlsonorchards.com
SUMMARY:Scott Brothers New American Meat Company
DESCRIPTION:Join us on Sunday\, June 27th from 11am to 4pm for some great food from Scott Brothers New American Meat Company. Check out these amazing offerings for Sunday! \n  \n \n  \n  \n  \n 
URL:https://carlsonorchards.com/event/scott-brothers-new-american-meat-company-3/
LOCATION:The Cider Barn at Carlson Orchards\, 115 Oak Hill Rd\, Harvard\, MA\, 01451\, United States
END:VEVENT
BEGIN:VEVENT
DTSTART;TZID=UTC:20210625T153000
DTEND;TZID=UTC:20210625T193000
DTSTAMP:20260424T152743
CREATED:20210623T152047Z
LAST-MODIFIED:20210625T171428Z
UID:2158-1624635000-1624649400@carlsonorchards.com
SUMMARY:Trolley Dogs Food Truck
DESCRIPTION:Join us and the Trolley Dogs food truck Friday\, June 25th\, 2021. The will be at the Cider Barn form 12 pm to 7:30 pm. Remember\, they are more than just dogs. They have great burgers and amazing Rickeys\, we recommend two because of the hot weather thats expected. \n 
URL:https://carlsonorchards.com/event/trolley-dogs-food-truck-10/
LOCATION:The Cider Barn at Carlson Orchards\, 115 Oak Hill Rd\, Harvard\, MA\, 01451\, United States
END:VEVENT
BEGIN:VEVENT
DTSTART;TZID=UTC:20210620T140000
DTEND;TZID=UTC:20210620T170000
DTSTAMP:20260424T152743
CREATED:20210507T200950Z
LAST-MODIFIED:20210616T174723Z
UID:2045-1624197600-1624208400@carlsonorchards.com
SUMMARY:Becky and the Swinging Bards
DESCRIPTION:The Carlson Orchards Concert Series continues with the return of Becky and the Swinging Bards. This is their second visit to the farm and we are so excited to have them back! \nCheck out their Facebook page at https://www.facebook.com/beckysmessoblues/ \n  \n 
URL:https://carlsonorchards.com/event/becky-and-the-swinging-bards/
LOCATION:The Cider Barn at Carlson Orchards\, 115 Oak Hill Rd\, Harvard\, MA\, 01451\, United States
END:VEVENT
BEGIN:VEVENT
DTSTART;TZID=UTC:20210620T120000
DTEND;TZID=UTC:20210620T170000
DTSTAMP:20260424T152743
CREATED:20210612T191538Z
LAST-MODIFIED:20210612T191609Z
UID:2127-1624190400-1624208400@carlsonorchards.com
SUMMARY:NAC Food Truck
DESCRIPTION:Welcome back Chef Brian! North American Catering (AKA NAC) will be back at The Cider Barn on June 20th. Chef always brings his “A” Game and we love it. \n  \nCheck out Chef Brian and NAC here.
URL:https://carlsonorchards.com/event/nac-food-truck-2/
LOCATION:The Cider Barn at Carlson Orchards\, 115 Oak Hill Rd\, Harvard\, MA\, 01451\, United States
END:VEVENT
BEGIN:VEVENT
DTSTART;TZID=UTC:20210619T120000
DTEND;TZID=UTC:20210619T193000
DTSTAMP:20260424T152743
CREATED:20210612T190533Z
LAST-MODIFIED:20210619T203715Z
UID:2125-1624104000-1624131000@carlsonorchards.com
SUMMARY:Kith and Kin Food Truck
DESCRIPTION:It great to have Kith and Kin back at The Cider Barn. Kith and Kin has amazing food and we are so happy they are part of our truck rotation. Stop by for some great food and a pint of cider. \nCheck out Kith and Kin here.
URL:https://carlsonorchards.com/event/kith-and-kin-food-truck-2/
LOCATION:The Cider Barn at Carlson Orchards\, 115 Oak Hill Rd\, Harvard\, MA\, 01451\, United States
END:VEVENT
BEGIN:VEVENT
DTSTART;TZID=UTC:20210612T120000
DTEND;TZID=UTC:20210612T193000
DTSTAMP:20260424T152743
CREATED:20210604T165304Z
LAST-MODIFIED:20210611T123525Z
UID:2088-1623499200-1623526200@carlsonorchards.com
SUMMARY:Trolley Dogs Food Truck
DESCRIPTION:Join us and the Trolley Dogs food truck Saturday\, June 12th\, 2021. The will be at the Cider Barn form 12 pm to 7:30 pm. Remember they are more than just dogs. They have great burgers and amazing Rickeys\, we recommend two because of the hot weather thats expected. \n 
URL:https://carlsonorchards.com/event/trolley-dogs-food-truck-7/
LOCATION:The Cider Barn at Carlson Orchards\, 115 Oak Hill Rd\, Harvard\, MA\, 01451\, United States
END:VEVENT
BEGIN:VEVENT
DTSTART;TZID=UTC:20210611T160000
DTEND;TZID=UTC:20210611T193000
DTSTAMP:20260424T152743
CREATED:20210611T123904Z
LAST-MODIFIED:20210611T123904Z
UID:2119-1623427200-1623439800@carlsonorchards.com
SUMMARY:Trolley Dogs Food Truck
DESCRIPTION:Trolley Dogs Food Truck will be here on Friday June 11th from 4 pm to 7:30 pm serving up their great dogs\, burgers\, and Rickeys! Stop by for a pint and some great comfort food.
URL:https://carlsonorchards.com/event/trolley-dogs-food-truck-8/
LOCATION:The Cider Barn at Carlson Orchards\, 115 Oak Hill Rd\, Harvard\, MA\, 01451\, United States
END:VEVENT
BEGIN:VEVENT
DTSTART;TZID=UTC:20210606T140000
DTEND;TZID=UTC:20210606T170000
DTSTAMP:20260424T152743
CREATED:20210604T170542Z
LAST-MODIFIED:20210604T175933Z
UID:2092-1622988000-1622998800@carlsonorchards.com
SUMMARY:Sean Magwire
DESCRIPTION:Sunday\, June 6th will see the return of Sean Magwire to the Cider Barn at Carlson Orchards. Sean is a talented solo act that always puts on a great show. Sean will be here from 2pm to 5pm on Sunday\, June 6th. Come by to listen to Sean perform while enjoying a crisp\, cold\, hard cider. \nCheck out Sean’s Facebook page at https://www.facebook.com/seanmagwiremusic/ \n  \n 
URL:https://carlsonorchards.com/event/sean-magwire/
LOCATION:MA
END:VEVENT
BEGIN:VEVENT
DTSTART;TZID=UTC:20210604T113000
DTEND;TZID=UTC:20210604T193000
DTSTAMP:20260424T152743
CREATED:20210519T122006Z
LAST-MODIFIED:20210604T180955Z
UID:2062-1622806200-1622835000@carlsonorchards.com
SUMMARY:Trolley Dogs Food Truck
DESCRIPTION:We are proud to announce Trolley Dogs Food truck will be here this Friday\, June 4th\, from 11 am to 7:30 pm. They have the best dogs around and they also have amazing burgers and fries. Stop by for a pint and a great lunch or dinner. Don’t have time to stay\, thats ok. Do a quick grab and go and take it home. Check them out http://www.denteenterprises.com/
URL:https://carlsonorchards.com/event/trolley-dogs-food-truck-6/
LOCATION:The Cider Barn at Carlson Orchards\, 115 Oak Hill Rd\, Harvard\, MA\, 01451\, United States
END:VEVENT
BEGIN:VEVENT
DTSTART;TZID=UTC:20210529T110000
DTEND;TZID=UTC:20210529T193000
DTSTAMP:20260424T152743
CREATED:20210417T162358Z
LAST-MODIFIED:20210528T153353Z
UID:2003-1622286000-1622316600@carlsonorchards.com
SUMMARY:Kith and Kin Food Truck - CANCELLED DUE TO WEATER
DESCRIPTION:Due to Saturday’s weather forecast we have cancelled the Kith and Kin food truck. We are heartbroken to do this. Mother nature\, you won this one. \nClick here to visit the Kith and Kin website.
URL:https://carlsonorchards.com/event/kith-and-kin-food-truck/
LOCATION:The Cider Barn at Carlson Orchards\, 115 Oak Hill Rd\, Harvard\, MA\, 01451\, United States
END:VEVENT
BEGIN:VEVENT
DTSTART;TZID=UTC:20210528T043000
DTEND;TZID=UTC:20210528T193000
DTSTAMP:20260424T152743
CREATED:20210525T180751Z
LAST-MODIFIED:20210528T153746Z
UID:2078-1622176200-1622230200@carlsonorchards.com
SUMMARY:Side Effects Band - CANCELLED DUE TO WEATHER
DESCRIPTION:Due to tonights forecast\, we have cancelled the music. We will get Side Effects back soon. \nCheck them out at Side Effects
URL:https://carlsonorchards.com/event/side-effects-band/
LOCATION:MA
END:VEVENT
BEGIN:VEVENT
DTSTART;TZID=UTC:20210522T110000
DTEND;TZID=UTC:20210522T193000
DTSTAMP:20260424T152743
CREATED:20210519T121837Z
LAST-MODIFIED:20210519T121859Z
UID:2059-1621681200-1621711800@carlsonorchards.com
SUMMARY:Trolley Dogs Food Truck
DESCRIPTION:We are proud to announce Trolley Dogs Food truck will be here this Saturday\, May 22nd\, from 11 am to 7:30 pm. They have the best dogs around and they also have amazing burgers and fries. Stop by for a pint and a great lunch or dinner. Don’t have time to stay\, thats ok. Do a quick grab and go and take it home. Check them out http://www.denteenterprises.com/
URL:https://carlsonorchards.com/event/trolley-dogs-food-truck-5/
LOCATION:The Cider Barn at Carlson Orchards\, 115 Oak Hill Rd\, Harvard\, MA\, 01451\, United States
END:VEVENT
BEGIN:VEVENT
DTSTART;TZID=UTC:20210521T110000
DTEND;TZID=UTC:20210521T193000
DTSTAMP:20260424T152743
CREATED:20210519T121611Z
LAST-MODIFIED:20210519T121724Z
UID:2056-1621594800-1621625400@carlsonorchards.com
SUMMARY:Trolley Dogs Food Truck
DESCRIPTION:We are proud to announce Trolley Dogs Food truck will be here this Friday\, May 21st\, from 11 am to 7:30 pm. They have the best dogs around and they also have amazing burgers and fries. Stop by for a pint and a great lunch or dinner. Don’t have time to stay\, thats ok. Do a quick grab and go and take it home. Check them out http://www.denteenterprises.com/ \n  \n  \n  \n 
URL:https://carlsonorchards.com/event/trolley-dogs-food-truck-4/
LOCATION:The Cider Barn at Carlson Orchards\, 115 Oak Hill Rd\, Harvard\, MA\, 01451\, United States
END:VEVENT
BEGIN:VEVENT
DTSTART;TZID=UTC:20210509T130000
DTEND;TZID=UTC:20210509T170000
DTSTAMP:20260424T152743
CREATED:20210429T145051Z
LAST-MODIFIED:20210507T174640Z
UID:2025-1620565200-1620579600@carlsonorchards.com
SUMMARY:SOUPED UP FOOD TRUCK
DESCRIPTION:Welcome back Chef Sylvia and Chef Dan. Its been a long week and we are craving your awesome food. These two take their passion for life and incorporated it into every item they make. They have raised the bar for every truck and restaurant out there. They make the best tater tots around! \nCheck out their  Mother’s Day Menu
URL:https://carlsonorchards.com/event/souped-up-food-truck-2/
LOCATION:The Cider Barn at Carlson Orchards\, 115 Oak Hill Rd\, Harvard\, MA\, 01451\, United States
END:VEVENT
BEGIN:VEVENT
DTSTART;VALUE=DATE:20210507
DTEND;VALUE=DATE:20210509
DTSTAMP:20260424T152743
CREATED:20210507T174934Z
LAST-MODIFIED:20210507T174934Z
UID:2043-1620345600-1620518399@carlsonorchards.com
SUMMARY:Cider Barn Tap Room CLOSED
DESCRIPTION:We will be closed today May 7 and tomorrow May 8 for a private family event. We will reopen on Sunday May 9th at 1 pm.
URL:https://carlsonorchards.com/event/cider-barn-tap-room-closed/
LOCATION:MA
END:VEVENT
BEGIN:VEVENT
DTSTART;TZID=UTC:20210502T080000
DTEND;TZID=UTC:20210502T140000
DTSTAMP:20260424T152743
CREATED:20210429T142248Z
LAST-MODIFIED:20210429T142248Z
UID:2023-1619942400-1619964000@carlsonorchards.com
SUMMARY:OPENING AT 2:00 PM
DESCRIPTION:We will be opening at 2:00 today. So sleep in\, get some stuff done in the yard and join us for pints and food after 2:30 PM. Thank you. SOUPED UP FOOD TRUCK will also be here\, stay tuned for the menu.
URL:https://carlsonorchards.com/event/opening-at-200-pm/
LOCATION:MA
END:VEVENT
BEGIN:VEVENT
DTSTART;TZID=UTC:20210429T180000
DTEND;TZID=UTC:20210429T200000
DTSTAMP:20260424T152743
CREATED:20210429T140140Z
LAST-MODIFIED:20210429T140214Z
UID:2016-1619719200-1619726400@carlsonorchards.com
SUMMARY:Robert Carlson Celebration of Life
DESCRIPTION:The Cider Barn will be closed today in honor of Robert Carlson\, beloved father\, son\, brother\, uncle\, friend\, and truck driver. Family and friends are welcome to join us at the Cider Barn from 6 to 8 pm to share stories and honor Robert. \n \n  \nTHE TRUCKER’S LAST RIDE\n  \nHe traveled the roads \nin years gone past \nA life he chose and \nHoped it would last \nDriving all night \nFrom state to state \nTrying to get home \nAnd arriving so late \nHe parked his truck now \nHis engine has stopped \nAnd for those who love him \nTheir hearts have dropped \nHe traveled the country \nWith a smile of great pride \nNow he drives the streets of Heaven \nOn the trucker’s last ride \n“MAY GOD RIDE WITH YOU… 10-4 AND GOODBYE”
URL:https://carlsonorchards.com/event/robert-carlson-celebration-of-life/
LOCATION:The Cider Barn at Carlson Orchards\, 115 Oak Hill Rd\, Harvard\, MA\, 01451\, United States
END:VEVENT
END:VCALENDAR