BEGIN:VCALENDAR
VERSION:2.0
PRODID:-//Welcome - ECPv6.15.20//NONSGML v1.0//EN
CALSCALE:GREGORIAN
METHOD:PUBLISH
X-ORIGINAL-URL:https://carlsonorchards.com
X-WR-CALDESC:Events for Welcome
REFRESH-INTERVAL;VALUE=DURATION:PT1H
X-Robots-Tag:noindex
X-PUBLISHED-TTL:PT1H
BEGIN:VTIMEZONE
TZID:America/New_York
BEGIN:DAYLIGHT
TZOFFSETFROM:-0500
TZOFFSETTO:-0400
TZNAME:EDT
DTSTART:20200308T070000
END:DAYLIGHT
BEGIN:STANDARD
TZOFFSETFROM:-0400
TZOFFSETTO:-0500
TZNAME:EST
DTSTART:20201101T060000
END:STANDARD
BEGIN:DAYLIGHT
TZOFFSETFROM:-0500
TZOFFSETTO:-0400
TZNAME:EDT
DTSTART:20210314T070000
END:DAYLIGHT
BEGIN:STANDARD
TZOFFSETFROM:-0400
TZOFFSETTO:-0500
TZNAME:EST
DTSTART:20211107T060000
END:STANDARD
BEGIN:DAYLIGHT
TZOFFSETFROM:-0500
TZOFFSETTO:-0400
TZNAME:EDT
DTSTART:20220313T070000
END:DAYLIGHT
BEGIN:STANDARD
TZOFFSETFROM:-0400
TZOFFSETTO:-0500
TZNAME:EST
DTSTART:20221106T060000
END:STANDARD
END:VTIMEZONE
BEGIN:VTIMEZONE
TZID:UTC
BEGIN:STANDARD
TZOFFSETFROM:+0000
TZOFFSETTO:+0000
TZNAME:UTC
DTSTART:20200101T000000
END:STANDARD
END:VTIMEZONE
BEGIN:VEVENT
DTSTART;TZID=America/New_York:20211002T120000
DTEND;TZID=America/New_York:20211002T193000
DTSTAMP:20260424T112727
CREATED:20210928T162326Z
LAST-MODIFIED:20210928T162326Z
UID:2422-1633176000-1633203000@carlsonorchards.com
SUMMARY:Trolley Dogs Food Truck
DESCRIPTION:  \n 
URL:https://carlsonorchards.com/event/trolley-dogs-food-truck-17/
LOCATION:The Cider Barn at Carlson Orchards\, 115 Oak Hill Rd\, Harvard\, MA\, 01451\, United States
END:VEVENT
BEGIN:VEVENT
DTSTART;TZID=America/New_York:20210925T120000
DTEND;TZID=America/New_York:20210925T190000
DTSTAMP:20260424T112727
CREATED:20210914T172925Z
LAST-MODIFIED:20210923T205839Z
UID:2377-1632571200-1632596400@carlsonorchards.com
SUMMARY:Souped Up Food Truck
DESCRIPTION:They are baaaaaaack! Welcome back Chef Dan and Sylvia. We are looking forward to some great food once again! \n  \n 
URL:https://carlsonorchards.com/event/souped-up-food-truck-7/
LOCATION:The Cider Barn at Carlson Orchards\, 115 Oak Hill Rd\, Harvard\, MA\, 01451\, United States
END:VEVENT
BEGIN:VEVENT
DTSTART;TZID=America/New_York:20210918T170000
DTEND;TZID=America/New_York:20210918T193000
DTSTAMP:20260424T112727
CREATED:20210914T172804Z
LAST-MODIFIED:20210915T183944Z
UID:2373-1631984400-1631993400@carlsonorchards.com
SUMMARY:Carlson Orchards Unplugged Concert Series - Phun Bucket
DESCRIPTION:It great to have Harvard’s own Phun Bucket returning to the Cider Barn at Carlson Orchards. These guys play only for support of a worthy charity. 100% of any “TIP” money to the band goes to that worthy cause.
URL:https://carlsonorchards.com/event/carlson-orchards-unplugged-featuring-phun-bucket/
LOCATION:The Cider Barn at Carlson Orchards\, 115 Oak Hill Rd\, Harvard\, MA\, 01451\, United States
END:VEVENT
BEGIN:VEVENT
DTSTART;TZID=America/New_York:20210918T120000
DTEND;TZID=America/New_York:20210918T183000
DTSTAMP:20260424T112727
CREATED:20210914T172706Z
LAST-MODIFIED:20210915T184801Z
UID:2371-1631966400-1631989800@carlsonorchards.com
SUMMARY:North American Catering (NAC) Food Truck
DESCRIPTION:
URL:https://carlsonorchards.com/event/north-american-catering-nac-food-truck/
LOCATION:The Cider Barn at Carlson Orchards\, 115 Oak Hill Rd\, Harvard\, MA\, 01451\, United States
END:VEVENT
BEGIN:VEVENT
DTSTART;TZID=America/New_York:20210918T120000
DTEND;TZID=America/New_York:20210918T173000
DTSTAMP:20260424T112727
CREATED:20210914T172201Z
LAST-MODIFIED:20210915T185102Z
UID:2369-1631966400-1631986200@carlsonorchards.com
SUMMARY:Kith & Kin Food Truck
DESCRIPTION:It is going to be a great day when Kith & Kin are at the farm. Come pick some apples\, drink some cider\, and have a great meal from Kith & Kin. \n 
URL:https://carlsonorchards.com/event/kith-kin-food-truck/
LOCATION:The Cider Barn at Carlson Orchards\, 115 Oak Hill Rd\, Harvard\, MA\, 01451\, United States
END:VEVENT
BEGIN:VEVENT
DTSTART;TZID=America/New_York:20210912T023000
DTEND;TZID=America/New_York:20210912T173000
DTSTAMP:20260424T112727
CREATED:20210826T191103Z
LAST-MODIFIED:20210826T191319Z
UID:2346-1631413800-1631467800@carlsonorchards.com
SUMMARY:Carlson Orchards Concert Series - Massive Prophet
DESCRIPTION:We are proud to announce that Massive Prophet will be here at The Cider Barn at Carlson Orchards. Come kick back with some great hard cider and great music! They will take the stage at 2:30 to 5:30pm. Check them out on Facebook here. \n  \n \n  \n 
URL:https://carlsonorchards.com/event/carlson-orchards-concert-series-massive-prophet/
LOCATION:The Cider Barn at Carlson Orchards\, 115 Oak Hill Rd\, Harvard\, MA\, 01451\, United States
END:VEVENT
BEGIN:VEVENT
DTSTART;TZID=America/New_York:20210905T150000
DTEND;TZID=America/New_York:20210905T173000
DTSTAMP:20260424T112727
CREATED:20210903T163722Z
LAST-MODIFIED:20210905T153419Z
UID:2356-1630854000-1630863000@carlsonorchards.com
SUMMARY:Carlson Orchards Concert Series - Side Effects
DESCRIPTION:It is our please to welcome Side Effects Band back to The Cider Barn at Carlson Orchards. They will be playing acoustically due to a town mandate placed upon us. Stop by for a pint\, a bite to eat and some great music.
URL:https://carlsonorchards.com/event/carlson-orchards-concert-series-side-effects/
LOCATION:MA
END:VEVENT
BEGIN:VEVENT
DTSTART;TZID=America/New_York:20210905T113000
DTEND;TZID=America/New_York:20210905T180000
DTSTAMP:20260424T112727
CREATED:20210625T203342Z
LAST-MODIFIED:20210905T153337Z
UID:2183-1630841400-1630864800@carlsonorchards.com
SUMMARY:NAC Food Truck - CANCELLED
DESCRIPTION:Welcome back Chef Brian! North American Catering (AKA NAC) will be back at The Cider Barn on September 5th. Chef Brian always brings his “A” Game and we love it. \nCheck out Chef Brian and NAC here.
URL:https://carlsonorchards.com/event/nac-food-truck-3/
LOCATION:The Cider Barn at Carlson Orchards\, 115 Oak Hill Rd\, Harvard\, MA\, 01451\, United States
END:VEVENT
BEGIN:VEVENT
DTSTART;TZID=America/New_York:20210905T113000
DTEND;TZID=America/New_York:20210905T160000
DTSTAMP:20260424T112727
CREATED:20210625T212604Z
LAST-MODIFIED:20210903T163057Z
UID:2197-1630841400-1630857600@carlsonorchards.com
SUMMARY:SCOTT BROTHERS: New American Meat Company
DESCRIPTION:We are so happy to have Scott Brothers Meats back to the Cider Barn at Carlson Orchards for some of their amazing food. We will have them the first and last Sunday of every month. \nThese two know how to smoke meats! Join us on  Sunday\, September 5th from 11:30 to 4:00 pm! Stop by for a pint of hard cider and some incredible food! Check back to see the final menu… \n  \n  \n  \n  \n\n\n\n\n\n\n\n  \n 
URL:https://carlsonorchards.com/event/pig-roast-scott-brothers-new-american-meat-company/
LOCATION:The Cider Barn at Carlson Orchards\, 115 Oak Hill Rd\, Harvard\, MA\, 01451\, United States
END:VEVENT
BEGIN:VEVENT
DTSTART;TZID=America/New_York:20210904T120000
DTEND;TZID=America/New_York:20210904T193000
DTSTAMP:20260424T112727
CREATED:20210625T212232Z
LAST-MODIFIED:20210903T162909Z
UID:2195-1630756800-1630783800@carlsonorchards.com
SUMMARY:Trolley Dogs Food Truck
DESCRIPTION:Join us and the Trolley Dogs food truck Saturday\, September 4th 2021. The will be at the Cider Barn form 12 pm to 7:30 pm. Remember\, they are more than just dogs. They have great burgers and amazing Rickeys. Grab a dog and a pint and enjoy the good life! \n 
URL:https://carlsonorchards.com/event/trolley-dogs-food-truck-16/
LOCATION:The Cider Barn at Carlson Orchards\, 115 Oak Hill Rd\, Harvard\, MA\, 01451\, United States
END:VEVENT
BEGIN:VEVENT
DTSTART;TZID=America/New_York:20210904T113000
DTEND;TZID=America/New_York:20210904T180000
DTSTAMP:20260424T112727
CREATED:20210903T162747Z
LAST-MODIFIED:20210903T162747Z
UID:2352-1630755000-1630778400@carlsonorchards.com
SUMMARY:NAC Food Truck
DESCRIPTION:Welcome back Chef Brian! North American Catering (AKA NAC) will be back at The Cider Barn on September 4th. Chef Brian always brings his “A” Game and we love it. \nCheck out Chef Brian and NAC here.
URL:https://carlsonorchards.com/event/nac-food-truck-5/
LOCATION:The Cider Barn at Carlson Orchards\, 115 Oak Hill Rd\, Harvard\, MA\, 01451\, United States
END:VEVENT
BEGIN:VEVENT
DTSTART;TZID=America/New_York:20210829T143000
DTEND;TZID=America/New_York:20210829T173000
DTSTAMP:20260424T112727
CREATED:20210824T161406Z
LAST-MODIFIED:20210825T200312Z
UID:2342-1630247400-1630258200@carlsonorchards.com
SUMMARY:Carlson Orchards Concert Series - CAPTAIN NEMO
DESCRIPTION:It is with great anticipation we welcome Captain Nemo to the Cider Barn at Carlson Orchards on Sunday August 29th. They will be performing from 2:30 pm to 5:30 pm. Stop by to relax to some great music and great cider.
URL:https://carlsonorchards.com/event/carlson-orchards-concert-series-captain-nemo/
LOCATION:The Cider Barn at Carlson Orchards\, 115 Oak Hill Rd\, Harvard\, MA\, 01451\, United States
END:VEVENT
BEGIN:VEVENT
DTSTART;TZID=America/New_York:20210829T120000
DTEND;TZID=America/New_York:20210829T170000
DTSTAMP:20260424T112727
CREATED:20210713T161920Z
LAST-MODIFIED:20210824T155306Z
UID:2266-1630238400-1630256400@carlsonorchards.com
SUMMARY:REASONS TO BE CHEERFUL ICE CREAM
DESCRIPTION:I scream… \nYou scream… \nWe all scream for… \nREASONS TO BE CHEERFUL!!! \nThe Cider Barn at Carlson Orchards is proud to have “Reasons to be Cheerful” homemade ice cream as our ice cream truck for this season. Come by for some fruit picking\, great food\, hard cider and ICE CREAM!!!!!! \nVisit Reasons to be Cheerful here. Or stop by in person at one of their two locations in Hudson and Concord. \n  \n 
URL:https://carlsonorchards.com/event/reasons-to-be-cheerful-ice-cream-2/
LOCATION:The Cider Barn at Carlson Orchards\, 115 Oak Hill Rd\, Harvard\, MA\, 01451\, United States
END:VEVENT
BEGIN:VEVENT
DTSTART;TZID=America/New_York:20210829T110000
DTEND;TZID=America/New_York:20210829T170000
DTSTAMP:20260424T112727
CREATED:20210824T155849Z
LAST-MODIFIED:20210824T155849Z
UID:2338-1630234800-1630256400@carlsonorchards.com
SUMMARY:NAC Food Truck
DESCRIPTION:North American Catering (AKA NAC) will be back at The Cider Barn on August 29th. \nChef Brian always brings his “A” Game and we love it. Try the fries! \nCheck out Chef Brian and NAC here.
URL:https://carlsonorchards.com/event/nac-food-truck-4/
LOCATION:The Cider Barn at Carlson Orchards\, 115 Oak Hill Rd\, Harvard\, MA\, 01451\, United States
END:VEVENT
BEGIN:VEVENT
DTSTART;TZID=UTC:20210828T163000
DTEND;TZID=UTC:20210828T193000
DTSTAMP:20260424T112727
CREATED:20210730T190414Z
LAST-MODIFIED:20210824T160335Z
UID:2284-1630168200-1630179000@carlsonorchards.com
SUMMARY:Carlson Orchards Concert Series - MARK FEMINO
DESCRIPTION:The Carlson Family is excited to have Mark Femino back for the Concert Series this summer. \nHead to Mark’s website here.
URL:https://carlsonorchards.com/event/carlson-orchards-concert-series-mark-femino/
LOCATION:The Cider Barn at Carlson Orchards\, 115 Oak Hill Rd\, Harvard\, MA\, 01451\, United States
END:VEVENT
BEGIN:VEVENT
DTSTART;TZID=America/New_York:20210828T120000
DTEND;TZID=America/New_York:20210828T193000
DTSTAMP:20260424T112727
CREATED:20210824T155058Z
LAST-MODIFIED:20210824T155154Z
UID:2305-1630152000-1630179000@carlsonorchards.com
SUMMARY:REASONS TO BE CHEERFUL ICE CREAM
DESCRIPTION:I scream… \nYou scream… \nWe all scream for… \nREASONS TO BE CHEERFUL!!! \nThe Cider Barn at Carlson Orchards is proud to have “Reasons to be Cheerful” homemade ice cream as our ice cream truck for this season. Come by for some fruit picking\, great food\, hard cider and ICE CREAM!!!!!! \nReasons to be Cheerful has two locations\, Hudson and Concord\, MA. Visit Reasons to be Cheerful here. \n  \n  \n  \n 
URL:https://carlsonorchards.com/event/reasons-to-be-cheerful-ice-cream-5/
LOCATION:The Cider Barn at Carlson Orchards\, 115 Oak Hill Rd\, Harvard\, MA\, 01451\, United States
END:VEVENT
BEGIN:VEVENT
DTSTART;TZID=America/New_York:20210828T120000
DTEND;TZID=America/New_York:20210828T193000
DTSTAMP:20260424T112727
CREATED:20210819T195553Z
LAST-MODIFIED:20210824T154834Z
UID:2319-1630152000-1630179000@carlsonorchards.com
SUMMARY:SOUPED UP FOOD TRUCK
DESCRIPTION:Souped Up Food Truck is Back!!!! Sorry we had to cancel due to Henri making a mess of things. \nGrab a pint\, grab. some great Souped Up Food and enjoy a great day at the farm! \n 
URL:https://carlsonorchards.com/event/souped-up-food-truck-6/
LOCATION:The Cider Barn at Carlson Orchards\, 115 Oak Hill Rd\, Harvard\, MA\, 01451\, United States
END:VEVENT
BEGIN:VEVENT
DTSTART;TZID=America/New_York:20210827T120000
DTEND;TZID=America/New_York:20210827T190000
DTSTAMP:20260424T112727
CREATED:20210824T151209Z
LAST-MODIFIED:20210824T151209Z
UID:2330-1630065600-1630090800@carlsonorchards.com
SUMMARY:REASONS TO BE CHEERFUL ICE CREAM
DESCRIPTION:ICE CREAM!!! \nNothing goes better with a day at the farm than ice cream. We are very proud to have “Reasons to be Cheerful” here at Carlson Orchards as our ice cream provider for the season. Take some time to relax with a great pint of cider\, a bite to eat from “NAC” food truck and a scoop of ice cream from “Reasons to be Cheerful.” \nVisit Reasons to be Cheerful here. Or stop by in person at one of their two locations in Hudson and Concord. \n  \n 
URL:https://carlsonorchards.com/event/reasons-to-be-cheerful-ice-cream-4/
LOCATION:The Cider Barn at Carlson Orchards\, 115 Oak Hill Rd\, Harvard\, MA\, 01451\, United States
END:VEVENT
BEGIN:VEVENT
DTSTART;TZID=UTC:20210822T113000
DTEND;TZID=UTC:20210822T170000
DTSTAMP:20260424T112727
CREATED:20210819T195456Z
LAST-MODIFIED:20210819T195456Z
UID:2317-1629631800-1629651600@carlsonorchards.com
SUMMARY:Uhlman's Ice Cream Truck
DESCRIPTION:Uhlman’s has been serving up amazing ice cream for over 50 years. We are so excited to welcome them back for the 2021 season! \nCheck out their story here.
URL:https://carlsonorchards.com/event/uhlmans-ice-cream-truck-4/
LOCATION:The Cider Barn at Carlson Orchards\, 115 Oak Hill Rd\, Harvard\, MA\, 01451\, United States
END:VEVENT
BEGIN:VEVENT
DTSTART;TZID=America/New_York:20210822T100000
DTEND;TZID=America/New_York:20210822T160000
DTSTAMP:20260424T112727
CREATED:20210819T195205Z
LAST-MODIFIED:20210819T195205Z
UID:2315-1629626400-1629648000@carlsonorchards.com
SUMMARY:LIONS CLUB FOOD TRUCK
DESCRIPTION:No Peach Festival would be complete with out the help from the amazing The Lions Club of Harvard. It is great to welcome back the Lions for the 18th annual Peach Festival! These local folks will be working hard to serve you their burgers\, dogs\, funnel cake\, fresh lemonade and other great items. Come out to celebrate the amazing peach and support The Lions Club of Harvard.
URL:https://carlsonorchards.com/event/lions-club-food-truck-2/
LOCATION:The Cider Barn at Carlson Orchards\, 115 Oak Hill Rd\, Harvard\, MA\, 01451\, United States
END:VEVENT
BEGIN:VEVENT
DTSTART;TZID=America/New_York:20210821T163000
DTEND;TZID=America/New_York:20210821T193000
DTSTAMP:20260424T112727
CREATED:20210625T210401Z
LAST-MODIFIED:20210819T192858Z
UID:2189-1629563400-1629574200@carlsonorchards.com
SUMMARY:LIVE MUSIC: FAR FROM EDEN
DESCRIPTION:The Cider Barn at Carlson Orchards is proud to welcome back Far From Eden” as the musical act on August 21st from 4:30 to 7:30 pm. Stop by for some great music and a pint of hard cider! \n  \n  \n  \n 
URL:https://carlsonorchards.com/event/live-music-far-from-eden/
LOCATION:The Cider Barn at Carlson Orchards\, 115 Oak Hill Rd\, Harvard\, MA\, 01451\, United States
END:VEVENT
BEGIN:VEVENT
DTSTART;TZID=America/New_York:20210821T130000
DTEND;TZID=America/New_York:20210821T190000
DTSTAMP:20260424T112727
CREATED:20210625T213806Z
LAST-MODIFIED:20210819T194326Z
UID:2201-1629550800-1629572400@carlsonorchards.com
SUMMARY:SOUPED UP FOOD TRUCK
DESCRIPTION:Welcome back Chef Sylvia and Chef Dan. We are excited to have these two back for Peach Festival 2021! \n 
URL:https://carlsonorchards.com/event/souped-up-food-truck-4/
LOCATION:The Cider Barn at Carlson Orchards\, 115 Oak Hill Rd\, Harvard\, MA\, 01451\, United States
END:VEVENT
BEGIN:VEVENT
DTSTART;TZID=UTC:20210821T123000
DTEND;TZID=UTC:20210821T153000
DTSTAMP:20260424T112727
CREATED:20210819T194032Z
LAST-MODIFIED:20210819T194032Z
UID:2310-1629549000-1629559800@carlsonorchards.com
SUMMARY:Carlson Orchards Concert Series - Acton Music Project
DESCRIPTION:Join us for Peach Festival 2021 and enjoy some great music from Acton Music Project. This group always brings a great group of follower
URL:https://carlsonorchards.com/event/carlson-orchards-concert-series-acton-music-project/
LOCATION:MA
END:VEVENT
BEGIN:VEVENT
DTSTART;TZID=UTC:20210821T113000
DTEND;TZID=UTC:20210821T170000
DTSTAMP:20260424T112727
CREATED:20210625T202459Z
LAST-MODIFIED:20210819T195402Z
UID:2179-1629545400-1629565200@carlsonorchards.com
SUMMARY:Uhlman's Ice Cream Truck
DESCRIPTION:Uhlman’s has been serving up amazing ice cream for over 50 years. We are so excited to welcome them back for the 2021 season! \nCheck out their story here.
URL:https://carlsonorchards.com/event/uhlmans-ice-cream-truck-6/
LOCATION:The Cider Barn at Carlson Orchards\, 115 Oak Hill Rd\, Harvard\, MA\, 01451\, United States
END:VEVENT
BEGIN:VEVENT
DTSTART;TZID=America/New_York:20210821T100000
DTEND;TZID=America/New_York:20210821T190000
DTSTAMP:20260424T112727
CREATED:20210819T194552Z
LAST-MODIFIED:20210819T194804Z
UID:2312-1629540000-1629572400@carlsonorchards.com
SUMMARY:LIONS CLUB FOOD TRUCK
DESCRIPTION:It’s been a long haul since the last time The Lions Club of Harvard has graced our orchard. It is great to welcome back the Lions for 2021 Peach Festival! These local folks will be working hard to serve you their burgers\, dogs\, funnel cake\, fresh lemonade and other great items. Come out to celebrate the amazing peach and support The Lions Club of Harvard.
URL:https://carlsonorchards.com/event/lions-club-food-truck/
LOCATION:The Cider Barn at Carlson Orchards\, 115 Oak Hill Rd\, Harvard\, MA\, 01451\, United States
END:VEVENT
BEGIN:VEVENT
DTSTART;TZID=UTC:20210820T043000
DTEND;TZID=UTC:20210820T193000
DTSTAMP:20260424T112727
CREATED:20210819T200358Z
LAST-MODIFIED:20210819T200446Z
UID:2321-1629433800-1629487800@carlsonorchards.com
SUMMARY:Carlson Orchards Concert Series - POWER SURGE
DESCRIPTION:The Carlson Orchards 2021 Concert Series is proud to introduce “POWER SURGE” to the family farm. Join us on Friday\, August 20 from 4:30 to 7:30 pm. Stop by for some great music and a pint of cider. \n  \n 
URL:https://carlsonorchards.com/event/carlson-orchards-concert-series-power-surge/
LOCATION:The Cider Barn at Carlson Orchards\, 115 Oak Hill Rd\, Harvard\, MA\, 01451\, United States
END:VEVENT
BEGIN:VEVENT
DTSTART;TZID=America/New_York:20210815T140000
DTEND;TZID=America/New_York:20210815T170000
DTSTAMP:20260424T112727
CREATED:20210625T202839Z
LAST-MODIFIED:20210813T192958Z
UID:2181-1629036000-1629046800@carlsonorchards.com
SUMMARY:Sean Magwire
DESCRIPTION:Sunday\, June 6th will see the return of Sean Magwire to the Cider Barn at Carlson Orchards. Sean is a talented solo act that always puts on a great show. Sean will be here from 2pm to 5pm on Sunday\, August 15th. Come by to listen to Sean perform while enjoying a crisp\, cold\, hard cider. \nCheck out Sean’s Facebook page at https://www.facebook.com/seanmagwiremusic/ \n  \n 
URL:https://carlsonorchards.com/event/sean-magwire-2/
LOCATION:The Cider Barn at Carlson Orchards\, 115 Oak Hill Rd\, Harvard\, MA\, 01451\, United States
END:VEVENT
BEGIN:VEVENT
DTSTART;TZID=UTC:20210814T173000
DTEND;TZID=UTC:20210814T193000
DTSTAMP:20260424T112727
CREATED:20210625T174755Z
LAST-MODIFIED:20210813T193128Z
UID:2173-1628962200-1628969400@carlsonorchards.com
SUMMARY:Harvard's Very Own Phun Bucket Band
DESCRIPTION:Harvard’s Very Own Phun Bucket Band will return on August 14th from 5:30 to 7:30 pm. It is great to have the guys back again to the Cider Barn\, they are very talented and alway put on a great show. Check them out here. \nEvery show these guys select a local organization to help. This weeks charity is the North Central Massachusetts Chapter of Habitat for Humanity. All money placed in the “bucket will help this worthy cause. \nAs always\, there is no cover charge and no need to purchase tickets! \n 
URL:https://carlsonorchards.com/event/harvards-very-own-phun-bucket-band/
LOCATION:The Cider Barn at Carlson Orchards\, 115 Oak Hill Rd\, Harvard\, MA\, 01451\, United States
END:VEVENT
BEGIN:VEVENT
DTSTART;TZID=America/New_York:20210814T160000
DTEND;TZID=America/New_York:20210814T193000
DTSTAMP:20260424T112727
CREATED:20210813T203312Z
LAST-MODIFIED:20210813T203339Z
UID:2303-1628956800-1628969400@carlsonorchards.com
SUMMARY:REASONS TO BE CHEERFUL ICE CREAM
DESCRIPTION:I scream… \nYou scream… \nWe all scream for… \nREASONS TO BE CHEERFUL!!! \nOr \nICE CREAM!!! \nThe Cider Barn at Carlson Orchards is proud to welcome “Reasons to be Cheerful” homemade ice cream for their first weekend to the orchards. This team knows how to make ice cream\, WOW!!!!! \nReasons to be Cheerful has two locations\, Hudson and Concord\, MA. Visit Reasons to be Cheerful here. \n  \n  \n  \n 
URL:https://carlsonorchards.com/event/reasons-to-be-cheerful-ice-cream-3/
LOCATION:The Cider Barn at Carlson Orchards\, 115 Oak Hill Rd\, Harvard\, MA\, 01451\, United States
END:VEVENT
BEGIN:VEVENT
DTSTART;TZID=America/New_York:20210813T173000
DTEND;TZID=America/New_York:20210813T193000
DTSTAMP:20260424T112727
CREATED:20210713T150042Z
LAST-MODIFIED:20210813T192803Z
UID:2257-1628875800-1628883000@carlsonorchards.com
SUMMARY:Carlson Orchards Concert Series - "THE RAFTERS"
DESCRIPTION:The Carlson Orchards 2021 Concert Series continues with “THE RAFTERS” on Friday\, August 13th from 4:30 to 7:30 pm. Stop by from some awesome music and a pint\, or two\, of hard cider. As always\, no need to purchase a ticket. The Carlson Orchards Concert Series is alway free. \n \nCheck out “The Rafters” here.
URL:https://carlsonorchards.com/event/carlson-orchards-concert-series-the-rafters/
LOCATION:The Cider Barn at Carlson Orchards\, 115 Oak Hill Rd\, Harvard\, MA\, 01451\, United States
END:VEVENT
END:VCALENDAR