BEGIN:VCALENDAR
VERSION:2.0
PRODID:-//Welcome - ECPv6.15.20//NONSGML v1.0//EN
CALSCALE:GREGORIAN
METHOD:PUBLISH
X-ORIGINAL-URL:https://carlsonorchards.com
X-WR-CALDESC:Events for Welcome
REFRESH-INTERVAL;VALUE=DURATION:PT1H
X-Robots-Tag:noindex
X-PUBLISHED-TTL:PT1H
BEGIN:VTIMEZONE
TZID:UTC
BEGIN:STANDARD
TZOFFSETFROM:+0000
TZOFFSETTO:+0000
TZNAME:UTC
DTSTART:20230101T000000
END:STANDARD
END:VTIMEZONE
BEGIN:VEVENT
DTSTART;TZID=UTC:20251122T130000
DTEND;TZID=UTC:20251122T160000
DTSTAMP:20260423T210957
CREATED:20251101T125007Z
LAST-MODIFIED:20251101T125007Z
UID:6050-1763816400-1763827200@carlsonorchards.com
SUMMARY:Santa Clause is coming to town
DESCRIPTION:  \nLooking to get a head start on your Christmas cards? Do your kids want to meet Santa but you want to avoid the crowds? Well you are in luck and he is back! Carlson’s favorite Santa Clause will be here from 1-4 and is excited to see all of the kids and hear what is on their wish lists for Christmas this year! Grab your family and friends and come and join us for lunch and a picture with Santa! Alexandria Leigh Photography will also be here taking professional photos of the kiddos with the man himself!
URL:https://carlsonorchards.com/event/santa-clause-is-coming-to-town/
LOCATION:The Cider Barn at Carlson Orchards\, 115 Oak Hill Rd\, Harvard\, MA\, 01451\, United States
ORGANIZER;CN="Carlson Orchards":MAILTO:katiecarlson@carlsonorchards.com
END:VEVENT
BEGIN:VEVENT
DTSTART;TZID=UTC:20251019T100000
DTEND;TZID=UTC:20251019T170000
DTSTAMP:20260423T210957
CREATED:20250929T213242Z
LAST-MODIFIED:20250929T213242Z
UID:6022-1760868000-1760893200@carlsonorchards.com
SUMMARY:Annual Apple Festival
DESCRIPTION:Come join us for a great fall time event…our Annual Apple Festival! We will have wagon rides out into the orchard\, apple picking\, live music\, food trucks\, artisans\, and more! Grab your friends and family and join us for this great fall time event!
URL:https://carlsonorchards.com/event/annual-apple-festival-2/
LOCATION:Carlson Orchards
ORGANIZER;CN="Carlson Orchards":MAILTO:katiecarlson@carlsonorchards.com
END:VEVENT
BEGIN:VEVENT
DTSTART;TZID=UTC:20251018T100000
DTEND;TZID=UTC:20251018T170000
DTSTAMP:20260423T210957
CREATED:20250929T213135Z
LAST-MODIFIED:20250929T213256Z
UID:6019-1760781600-1760806800@carlsonorchards.com
SUMMARY:Annual Apple Festival
DESCRIPTION:Come join us for a great fall time event…our Annual Apple Festival! We will have wagon rides out into the orchard\, apple picking\, live music\, food trucks\, artisans\, and more! Grab your friends and family and join us for this great fall time event!
URL:https://carlsonorchards.com/event/annual-apple-festival/
LOCATION:Carlson Orchards
ORGANIZER;CN="Carlson Orchards":MAILTO:katiecarlson@carlsonorchards.com
END:VEVENT
BEGIN:VEVENT
DTSTART;TZID=UTC:20250629T140000
DTEND;TZID=UTC:20250629T153000
DTSTAMP:20260423T210957
CREATED:20250626T184435Z
LAST-MODIFIED:20250626T184435Z
UID:5894-1751205600-1751211000@carlsonorchards.com
SUMMARY:Disney Trivia
DESCRIPTION:Grab your friends and family and come join us for some delicious pizzas\, ciders\, and 4 rounds of Disney Trivia! We will cover everything from the old fashioned Steamboat Willie Disney\, the princesses\, the villians and the iconic music! Come join us for a great afternoon!
URL:https://carlsonorchards.com/event/disney-trivia/
LOCATION:The Cider Barn at Carlson Orchards\, 115 Oak Hill Rd\, Harvard\, MA\, 01451\, United States
ORGANIZER;CN="Carlson Orchards":MAILTO:katiecarlson@carlsonorchards.com
END:VEVENT
BEGIN:VEVENT
DTSTART;TZID=UTC:20250622T143000
DTEND;TZID=UTC:20250622T153000
DTSTAMP:20260423T210957
CREATED:20250616T154956Z
LAST-MODIFIED:20250616T154956Z
UID:5876-1750602600-1750606200@carlsonorchards.com
SUMMARY:BINGO!
DESCRIPTION:Grab your friends and family and come join us for some delicious pizzas\, ciders\, and a few rounds of Bingo! Great way to spend a Sunday afternoon at your favorite cidery!
URL:https://carlsonorchards.com/event/bingo-2/
LOCATION:The Cider Barn at Carlson Orchards\, 115 Oak Hill Rd\, Harvard\, MA\, 01451\, United States
ORGANIZER;CN="Carlson Orchards":MAILTO:katiecarlson@carlsonorchards.com
END:VEVENT
BEGIN:VEVENT
DTSTART;TZID=UTC:20250615T130000
DTEND;TZID=UTC:20250615T150000
DTSTAMP:20260423T210957
CREATED:20250608T203654Z
LAST-MODIFIED:20250608T203654Z
UID:5869-1749992400-1749999600@carlsonorchards.com
SUMMARY:Friends Themed Trivia
DESCRIPTION:Is Friends one of your favorite shows? Do you know everything there is to know about it? Well gather your friends and family and come join us for a great afternoon of Trivia and all things Friends!
URL:https://carlsonorchards.com/event/friends-themed-trivia/
LOCATION:The Cider Barn at Carlson Orchards\, 115 Oak Hill Rd\, Harvard\, MA\, 01451\, United States
ORGANIZER;CN="Carlson Orchards":MAILTO:katiecarlson@carlsonorchards.com
END:VEVENT
BEGIN:VEVENT
DTSTART;TZID=UTC:20250608T130000
DTEND;TZID=UTC:20250608T150000
DTSTAMP:20260423T210957
CREATED:20250601T203719Z
LAST-MODIFIED:20250601T203719Z
UID:5854-1749387600-1749394800@carlsonorchards.com
SUMMARY:Musical Bingo
DESCRIPTION:Come join us for a great afternoon of great music\, flatbread pizzas\, ciders and a great time! We will be including music from all different genres so gather your friends and family and join us for a great Sunday afternoon!
URL:https://carlsonorchards.com/event/musical-bingo/
LOCATION:The Cider Barn at Carlson Orchards\, 115 Oak Hill Rd\, Harvard\, MA\, 01451\, United States
ORGANIZER;CN="Carlson Orchards":MAILTO:katiecarlson@carlsonorchards.com
END:VEVENT
BEGIN:VEVENT
DTSTART;TZID=UTC:20250526T130000
DTEND;TZID=UTC:20250526T150000
DTSTAMP:20260423T210957
CREATED:20250509T203236Z
LAST-MODIFIED:20250521T122307Z
UID:5777-1748264400-1748271600@carlsonorchards.com
SUMMARY:Bingo!
DESCRIPTION:Sunday Fundays are back! Come join us on this gorgeous Mother’s Day for a few great rounds of everyone’s favorite game…BINGO! There will be great prizes\, pints of your favorite hard ciders\, great food and best of all…great fun!
URL:https://carlsonorchards.com/event/bingo/
LOCATION:The Cider Barn at Carlson Orchards\, 115 Oak Hill Rd\, Harvard\, MA\, 01451\, United States
ORGANIZER;CN="Carlson Orchards":MAILTO:katiecarlson@carlsonorchards.com
END:VEVENT
BEGIN:VEVENT
DTSTART;TZID=UTC:20250503T100000
DTEND;TZID=UTC:20250503T170000
DTSTAMP:20260423T210957
CREATED:20250426T161957Z
LAST-MODIFIED:20250426T161957Z
UID:5810-1746266400-1746291600@carlsonorchards.com
SUMMARY:Apple Blossom Festival
DESCRIPTION:Come join us on Saturday\, May 3rd for a great day of hayrides through the orchards\, live music\, Northeast Smokehouse food truck\, local artisans\, and more! The Cider Barn and the Farm Stand will be open their normal hours! Mother’s Day is just around the corner and this would be the perfect place to get mom something if you haven’t already! Come join us for a great day!
URL:https://carlsonorchards.com/event/apple-blossom-festival-2/
LOCATION:MA
END:VEVENT
BEGIN:VEVENT
DTSTART;TZID=UTC:20250215T140000
DTEND;TZID=UTC:20250215T160000
DTSTAMP:20260423T210957
CREATED:20250206T184050Z
LAST-MODIFIED:20250215T132802Z
UID:5714-1739628000-1739635200@carlsonorchards.com
SUMMARY:Super Bowl Bingo
DESCRIPTION:  \nAre you a fan of Bingo? Want to support Katie and the Greater Boston Food Bank as she prepares for the 129th Boston Marathon in April? Well have just the thing for you! We will be hosting Football Bingo on Saturday\, February 15th from 2-4 pm! Each bingo card is $10 and all monies raised will go to support the Great Boston Food Bank which is the charity she has chosen to run for and support as she prepares to take on the marathon! Come and enjoy a pint (or two) of your favorite hard cider while we support a great cause!
URL:https://carlsonorchards.com/event/super-bowl-trivia-2/
LOCATION:Carlson Orchards
ORGANIZER;CN="Carlson Orchards":MAILTO:katiecarlson@carlsonorchards.com
END:VEVENT
BEGIN:VEVENT
DTSTART;TZID=UTC:20250215T120000
DTEND;TZID=UTC:20250215T130000
DTSTAMP:20260423T210957
CREATED:20250206T183616Z
LAST-MODIFIED:20250215T133334Z
UID:5712-1739620800-1739624400@carlsonorchards.com
SUMMARY:Super Bowl Trivia
DESCRIPTION:  \nHow well do you know Football? Are you looking for something fun to do on Saturday with your friends and family to help you get into the Super Bowl mood? Come join us on Saturday\, February 8th at 12 pm for a great game of Football/Super Bowl Trivia! While there is no charge for playing Trivia\, donations to help support the Greater Boston Food Bank and Katie as she gets ready to take on the 129th Boston Marathon are greatly appreciated.
URL:https://carlsonorchards.com/event/super-bowl-trivia/
LOCATION:Carlson Orchards
ORGANIZER;CN="Carlson Orchards":MAILTO:katiecarlson@carlsonorchards.com
END:VEVENT
BEGIN:VEVENT
DTSTART;TZID=UTC:20250208T140000
DTEND;TZID=UTC:20250208T170000
DTSTAMP:20260423T210957
CREATED:20250206T183047Z
LAST-MODIFIED:20250206T183249Z
UID:5697-1739023200-1739034000@carlsonorchards.com
SUMMARY:St. Patrick's Day Arts and Craft Day!
DESCRIPTION:  \nLooking to get your kids out of the house? Want to enjoy a pint or two while your children make some fantastic St. Patrick’s Day themed arts and crafts?! Come join us on Saturday\, February 22nd from 2-5 pm for all sorts of Arts and Crafts! See what Katie has up her sleeve this time! Reach out to Katie at 603-554-7044 to get your kid(s) signed up today!
URL:https://carlsonorchards.com/event/arts-and-craft-day/
LOCATION:Carlson Orchards
ORGANIZER;CN="Carlson Orchards":MAILTO:katiecarlson@carlsonorchards.com
END:VEVENT
BEGIN:VEVENT
DTSTART;TZID=UTC:20241214T130000
DTEND;TZID=UTC:20241214T160000
DTSTAMP:20260423T210957
CREATED:20241114T205557Z
LAST-MODIFIED:20241114T205751Z
UID:5608-1734181200-1734192000@carlsonorchards.com
SUMMARY:Santa's Coming to Carlson's!
DESCRIPTION:Santa is coming!!! Yup the man in the big red suit is coming back to Carlson’s! He will be here on Saturday\, December 14th from 2-4 pm ready to meet everyone! Get your kids picture with Santa for your Christmas card! Are you almost done with your holiday shopping but have those last few people on your list you don’t know what to get them? We will have some local artisans here sharing their talents with us! Come join us for a great day!
URL:https://carlsonorchards.com/event/santas-coming-to-carlsons-2/
LOCATION:The Cider Barn at Carlson Orchards\, 115 Oak Hill Rd\, Harvard\, MA\, 01451\, United States
END:VEVENT
BEGIN:VEVENT
DTSTART;VALUE=DATE:20241128
DTEND;VALUE=DATE:20241129
DTSTAMP:20260423T210957
CREATED:20231019T194009Z
LAST-MODIFIED:20241114T210128Z
UID:4759-1732752000-1732838399@carlsonorchards.com
SUMMARY:Happy Thanksgiving!
DESCRIPTION:  \nBoth the Farm Stand and the Cider Barn will be CLOSED for Thanksgiving Day to allow our amazing staff the chance to spend time with their family. The Farm Stand will open with normal hours and the Cider Barn will be open at 1 pm on Friday\, November 29th. We hope everyone has a great holiday!
URL:https://carlsonorchards.com/event/happy-thanks-giving/
LOCATION:MA
END:VEVENT
BEGIN:VEVENT
DTSTART;TZID=UTC:20241123T140000
DTEND;TZID=UTC:20241123T160000
DTSTAMP:20260423T210957
CREATED:20241114T205319Z
LAST-MODIFIED:20241114T205319Z
UID:5604-1732370400-1732377600@carlsonorchards.com
SUMMARY:Santa's Coming to Carlson's!
DESCRIPTION:Santa is coming!!! Yup the man in the big red suit is coming back to Carlson’s! He will be here on Saturday\, November 23rd from 2-4 pm ready to meet everyone! Kids can get their picture(s) taken with him and tell him everything on their holiday wish list! The Harvard Lion’s Club will also be here with sign-ups for their Citrus Sale along with their new Holiday ornaments!
URL:https://carlsonorchards.com/event/santas-coming-to-carlsons/
LOCATION:The Cider Barn at Carlson Orchards\, 115 Oak Hill Rd\, Harvard\, MA\, 01451\, United States
END:VEVENT
BEGIN:VEVENT
DTSTART;TZID=UTC:20240616T120000
DTEND;TZID=UTC:20240616T170000
DTSTAMP:20260423T210957
CREATED:20240611T192600Z
LAST-MODIFIED:20240611T192600Z
UID:5247-1718539200-1718557200@carlsonorchards.com
SUMMARY:North East Smoke House
DESCRIPTION:What better way to spend Father’s Day than by enjoying some great BBQ with your favorite hard cider! Northeast Smokehouse will be here on Sunday\, June 16th from 12-5 and if you want to make sure you don’t miss them…don’t wait to long as they are a crowd favorite!
URL:https://carlsonorchards.com/event/north-east-smoke-house-4/
LOCATION:Carlson Orchards
END:VEVENT
BEGIN:VEVENT
DTSTART;TZID=UTC:20240613T173000
DTEND;TZID=UTC:20240613T190000
DTSTAMP:20260423T210957
CREATED:20240611T192823Z
LAST-MODIFIED:20240611T192823Z
UID:5249-1718299800-1718305200@carlsonorchards.com
SUMMARY:Themed Thursdays!
DESCRIPTION:The Cider Barn is now open on Thursdays from 2-8 and each week we will have a different theme with different fun things to come and join us for! Are you a fan of the 80s? Do you know everything about the 80s? Come test your knowledge with us on Thursday\, June 13th as we will be having Trivia starting at 5:30 all about the 80s! Don’t forget to dress up in your favorite 80s outfit and come have a fantastic night with us!
URL:https://carlsonorchards.com/event/themed-thursdays/
LOCATION:MA
END:VEVENT
BEGIN:VEVENT
DTSTART;TZID=UTC:20240526T120000
DTEND;TZID=UTC:20240526T170000
DTSTAMP:20260423T210957
CREATED:20240111T230000Z
LAST-MODIFIED:20240111T230000Z
UID:4953-1716724800-1716742800@carlsonorchards.com
SUMMARY:North East Smoke House
DESCRIPTION:Smoked BBQ from Northeast Smoke House to start the Food Truck season.
URL:https://carlsonorchards.com/event/north-east-smoke-house/
LOCATION:MA
END:VEVENT
BEGIN:VEVENT
DTSTART;VALUE=DATE:20240525
DTEND;VALUE=DATE:20240526
DTSTAMP:20260423T210957
CREATED:20240111T225432Z
LAST-MODIFIED:20240206T162623Z
UID:4949-1716595200-1716681599@carlsonorchards.com
SUMMARY:5/25/2024 Closed For a Private Event
DESCRIPTION:all day wedding
URL:https://carlsonorchards.com/event/closed-for-a-private-event-2/
LOCATION:The Cider Barn at Carlson Orchards\, 115 Oak Hill Rd\, Harvard\, MA\, 01451\, United States
ORGANIZER;CN="Carlson Orchards":MAILTO:katiecarlson@carlsonorchards.com
END:VEVENT
BEGIN:VEVENT
DTSTART;TZID=UTC:20240518T163000
DTEND;TZID=UTC:20240518T193000
DTSTAMP:20260423T210957
CREATED:20240111T225314Z
LAST-MODIFIED:20240514T190332Z
UID:4947-1716049800-1716060600@carlsonorchards.com
SUMMARY:Just One Sip
DESCRIPTION:Come join us for great music\, food and ciders! This is a great group that plays classic and alternative rock! You definitely don’t want to miss out on these guys!
URL:https://carlsonorchards.com/event/just-one-sip/
LOCATION:The Cider Barn at Carlson Orchards\, 115 Oak Hill Rd\, Harvard\, MA\, 01451\, United States
ORGANIZER;CN="Carlson Orchards":MAILTO:katiecarlson@carlsonorchards.com
END:VEVENT
BEGIN:VEVENT
DTSTART;TZID=UTC:20240512T130000
DTEND;TZID=UTC:20240512T160000
DTSTAMP:20260423T210957
CREATED:20240111T225743Z
LAST-MODIFIED:20240111T225743Z
UID:4951-1715518800-1715529600@carlsonorchards.com
SUMMARY:Becky and The Swingn' Bards
DESCRIPTION:Mothers Day fun with a great band of bards playing fun music everyone knows.
URL:https://carlsonorchards.com/event/becky-and-the-swingn-bards/
LOCATION:MA
END:VEVENT
BEGIN:VEVENT
DTSTART;TZID=UTC:20240511T163000
DTEND;TZID=UTC:20240511T193000
DTSTAMP:20260423T210957
CREATED:20240206T162326Z
LAST-MODIFIED:20240405T132923Z
UID:5029-1715445000-1715455800@carlsonorchards.com
SUMMARY:Live Music by The DulceTones!
DESCRIPTION:Come and join us for some great live music from a fun and great group of guys!
URL:https://carlsonorchards.com/event/joy-reo-trio-2/
LOCATION:The Cider Barn at Carlson Orchards\, 115 Oak Hill Rd\, Harvard\, MA\, 01451\, United States
ORGANIZER;CN="Carlson Orchards":MAILTO:katiecarlson@carlsonorchards.com
END:VEVENT
BEGIN:VEVENT
DTSTART;TZID=UTC:20240504T160000
DTEND;TZID=UTC:20240504T190000
DTSTAMP:20260423T210957
CREATED:20240111T225144Z
LAST-MODIFIED:20240111T225144Z
UID:4945-1714838400-1714849200@carlsonorchards.com
SUMMARY:Mike and Missy
DESCRIPTION:An unplugged duo singing all our favorite tunes.
URL:https://carlsonorchards.com/event/mike-and-missy/
LOCATION:The Cider Barn at Carlson Orchards\, 115 Oak Hill Rd\, Harvard\, MA\, 01451\, United States
ORGANIZER;CN="Carlson Orchards":MAILTO:katiecarlson@carlsonorchards.com
END:VEVENT
BEGIN:VEVENT
DTSTART;TZID=UTC:20240504T100000
DTEND;TZID=UTC:20240504T160000
DTSTAMP:20260423T210957
CREATED:20240420T143640Z
LAST-MODIFIED:20240424T143701Z
UID:5173-1714816800-1714838400@carlsonorchards.com
SUMMARY:Apple Blossom Festival
DESCRIPTION:Looking for the perfect Mother’s Day gift?! Want to come enjoy the orchard during this amazing time of year?! We have just the thing for you! We are excited to be bringing a town wide tradition to Carlson’s! We will have a great group of artisans here\, Trolley Dogs food truck will be here\, wagon rides through the orchard and much more! Grab your friends and family and join us for a great day and maybe find the perfect Mother’s Day gift while you are here!
URL:https://carlsonorchards.com/event/apple-blossom-festival/
LOCATION:Carlson Orchards
ORGANIZER;CN="Carlson Orchards":MAILTO:katiecarlson@carlsonorchards.com
END:VEVENT
BEGIN:VEVENT
DTSTART;TZID=UTC:20240420T140000
DTEND;TZID=UTC:20240420T200000
DTSTAMP:20260423T210957
CREATED:20240420T143243Z
LAST-MODIFIED:20240420T143243Z
UID:5170-1713621600-1713643200@carlsonorchards.com
SUMMARY:Cider Barn Closing Early At 2 pm
DESCRIPTION:  \nThe Cider Barn will be CLOSING EARLY today\, Saturday\, April 20th at 2 pm for a private event. We apologize for any inconvenience but hope to see you on Sunday\, April 21st.
URL:https://carlsonorchards.com/event/cider-barn-closing-early-at-2-pm/
LOCATION:MA
END:VEVENT
BEGIN:VEVENT
DTSTART;TZID=UTC:20240406T163000
DTEND;TZID=UTC:20240406T193000
DTSTAMP:20260423T210957
CREATED:20240111T224917Z
LAST-MODIFIED:20240111T224917Z
UID:4943-1712421000-1712431800@carlsonorchards.com
SUMMARY:Bill K. Acoustic
DESCRIPTION:Eclectic blend of covers by singer musician Bill Kenyon
URL:https://carlsonorchards.com/event/bill-k-acoustic/
LOCATION:The Cider Barn at Carlson Orchards\, 115 Oak Hill Rd\, Harvard\, MA\, 01451\, United States
ORGANIZER;CN="Carlson Orchards":MAILTO:katiecarlson@carlsonorchards.com
END:VEVENT
BEGIN:VEVENT
DTSTART;VALUE=DATE:20240331
DTEND;VALUE=DATE:20240401
DTSTAMP:20260423T210957
CREATED:20240108T151419Z
LAST-MODIFIED:20240302T032157Z
UID:4926-1711843200-1711929599@carlsonorchards.com
SUMMARY:Easter Sunday
DESCRIPTION:  \nHappy Easter from all of us at Carlson Orchards! Both our Farm Stand and Cider Barn will be CLOSED today while we let our employees to enjoy the day with their families!
URL:https://carlsonorchards.com/event/easter-sunday-closed/
LOCATION:MA
END:VEVENT
BEGIN:VEVENT
DTSTART;TZID=UTC:20240330T110000
DTEND;TZID=UTC:20240330T150000
DTSTAMP:20260423T210957
CREATED:20240108T151302Z
LAST-MODIFIED:20240321T225026Z
UID:4924-1711796400-1711810800@carlsonorchards.com
SUMMARY:Easter Egg Hunt SOLD OUT!
DESCRIPTION:  \nCome and join us for our Annual Easter Egg Hunt! Fun for the whole family and for kids of all ages! There will be two egg hunts today\, 11 am and 2 pm. At this point both of these Easter Egg Hunts are full. We apologize for any inconvenience.
URL:https://carlsonorchards.com/event/easter-egg-hunt-2/
LOCATION:The Cider Barn at Carlson Orchards\, 115 Oak Hill Rd\, Harvard\, MA\, 01451\, United States
ORGANIZER;CN="Carlson Orchards":MAILTO:katiecarlson@carlsonorchards.com
END:VEVENT
BEGIN:VEVENT
DTSTART;TZID=UTC:20240324T110000
DTEND;TZID=UTC:20240324T150000
DTSTAMP:20260423T210957
CREATED:20240108T150918Z
LAST-MODIFIED:20240321T224941Z
UID:4922-1711278000-1711292400@carlsonorchards.com
SUMMARY:Easter Egg Hunt SOLD OUT!
DESCRIPTION:  \n***Please note…due to inclement weather on Saturday we have switched this event to Sunday\, March 24th. We hope this will make for a more enjoyable event!*** \nCome and join us for our Annual Easter Egg Hunt! Fun for the whole family and for kids of all ages! There will be two egg hunts today\, 11 am and 2 pm. At this point this event is full. We apologize for any inconvenience.
URL:https://carlsonorchards.com/event/easter-egg-hunt/
LOCATION:The Cider Barn at Carlson Orchards\, 115 Oak Hill Rd\, Harvard\, MA\, 01451\, United States
ORGANIZER;CN="Carlson Orchards":MAILTO:katiecarlson@carlsonorchards.com
END:VEVENT
BEGIN:VEVENT
DTSTART;TZID=UTC:20240323T163000
DTEND;TZID=UTC:20240323T193000
DTSTAMP:20260423T210957
CREATED:20240206T162159Z
LAST-MODIFIED:20240206T162159Z
UID:5027-1711211400-1711222200@carlsonorchards.com
SUMMARY:Joy Reo Trio
DESCRIPTION:
URL:https://carlsonorchards.com/event/joy-reo-trio/
LOCATION:The Cider Barn at Carlson Orchards\, 115 Oak Hill Rd\, Harvard\, MA\, 01451\, United States
ORGANIZER;CN="Carlson Orchards":MAILTO:katiecarlson@carlsonorchards.com
END:VEVENT
END:VCALENDAR